Workbook

Sheet p01pok
Y1: =IF(OR(L10=4,L10=5,L10=6),key!H3,key!H2) -> ปพ.5 ต
A8: โรงเรียนขามทะเลสอวิทยา อำเภอขามทะเลสอ จังหวัดนครราชสีมา
B10: =IF(L10>=4,key!I15,key!I14) -> ชั้นมัธยมศึกษาตอนต้น | G10: ชั้นมัธยมศึกษาปีที่ | L10: 1 | N10: ภาคเรียนที่ | Q10: 1 | S10: ปีการศึกษา | V10: 2569
A12: กลุ่มสาระการเรียนรู้ | E12: กิจกรรมพัฒนาผู้เรียน | M12: รายวิชา | O12: xxxxxxxxxxxxxxxxxx | W12: รหัสวิชา | Y12: xxxxxx
A14: น้ำหนัก/หน่วยกิต | E14: 0 | H14: เวลาเรียน | K14: =IF(E14=0,"1",E14/0.5) -> 1 | M14: ชั่วโมง/สัปดาห์ | P14: อัตราส่วนคะแนน | T14: 0 | W14: : | X14: 0
A16: ครูผู้สอน | E16: ----------เลือกรายชื่อ---------
A18: สรุปการประเมิน
A19: ห้องเรียน | C19: จำนวน นักเรียน | E19: ระดับผลการเรียน | O19: ผลการประเมินคุณลักษณะ อันพึงประสงค์ | S19: ผลการประเมินการอ่าน คิดวิเคราะห์ เขียน | W19: ผลการประเมินสมรรถนะ สำคัญของผู้เรียน
K20: ผ | L20: มผ | M20: ร | N20: มส | O20: 3 | P20: 2 | Q20: 1 | R20: 0 | S20: 3 | T20: 2 | U20: 1 | V20: 0 | W20: 3 | X20: 2 | Y20: 1 | Z20: 0
A21: =IF(B21="","","ม."&$L$10&IF($L$10="","","/")) -> ม.1/ | B21: 1 | C21: =IF(B21="","","จำนวน") -> จำนวน | D21: =IF(B21="","",SUM(E21:N21)) -> 0 | W21: =IF(B21="","",COUNTIFS(p7aptitude!C:C,key!X1,p7aptitude!M:M,"ดีเยี่ยม")) -> 17 | X21: =IF(B21="","",COUNTIFS(p7aptitude!C:C,key!X1,p7aptitude!M:M,"ดี")) -> 0 | Y21: =IF(B21="","",COUNTIFS(p7aptitude!C:C,key!X1,p7aptitude!M:M,"ผ่าน")) -> 0 | Z21: =IF(B21="","",COUNTIFS(p7aptitude!C:C,key!X1,p7aptitude!M:M,"ไม่ผ่าน")) -> 0 | AA21: =IF(B21="","",IF(SUM(O21:R21)<>D21," จำนวน นร. -คุณลักษณะ ไม่ตรงกับ จำนวนเกรด ",IF(SUM(S21:V21)<>D21," จำนวน นร."&key!X1&" -อ่าน คิด จำนวนเกรด ",IF(SUM(W21:Z21)<>D21," จำนวน นร. -สมรรถนะ ไม่ตรงกับ จำนวนเกรด ","")))) -> จำนวน นร. -สมรรถนะ ไม่ตรงกับ จำนวนเกรด
C22: =IF(B21="","","ร้อยละ") -> ร้อยละ | D22: =IF(B21="","",SUM(E22:N22)) -> #DIV/0! | K22: =IF($B$21="","",(K21*100)/$D$21) -> #DIV/0! | L22: =IF($B$21="","",(L21*100)/$D$21) -> #DIV/0! | M22: =IF($B$21="","",(M21*100)/$D$21) -> #DIV/0! | N22: =IF($B$21="","",(N21*100)/$D$21) -> #DIV/0! | O22: =IF($B$21="","",(O21*100)/$D$21) -> #DIV/0! | P22: =IF($B$21="","",(P21*100)/$D$21) -> #DIV/0! | Q22: =IF($B$21="","",(Q21*100)/$D$21) -> #DIV/0! | R22: =IF($B$21="","",(R21*100)/$D$21) -> #DIV/0! | ... Z22: =IF($B$21="","",(Z21*100)/$D$21) -> #DIV/0!
A23: =IF(B23="","","ม."&$L$10&IF($L$10="","","/")) -> ม.1/ | B23: 2 | C23: =IF(B23="","","จำนวน") -> จำนวน | D23: =IF($B$23="","",SUM(E23:N23)) -> 0 | W23: =IF(B23="","",COUNTIFS(p7aptitude!C:C,key!X2,p7aptitude!M:M,"ดีเยี่ยม")) -> 23 | X23: =IF(B23="","",COUNTIFS(p7aptitude!C:C,key!X2,p7aptitude!M:M,"ดี")) -> 0 | Y23: =IF(B23="","",COUNTIFS(p7aptitude!C:C,key!X2,p7aptitude!M:M,"ผ่าน")) -> 0 | Z23: =IF(B23="","",COUNTIFS(p7aptitude!C:C,key!X2,p7aptitude!M:M,"ไม่ผ่าน")) -> 0 | AA23: =IF(B23="","",IF(SUM(O23:R23)<>D23," จำนวน นร. -คุณลักษณะ ไม่ตรงกับ จำนวนเกรด ",IF(SUM(S23:V23)<>D23," จำนวน นร."&key!X3&" -อ่าน คิด จำนวนเกรด ",IF(SUM(W23:Z23)<>D23," จำนวน นร. -สมรรถนะ ไม่ตรงกับ จำนวนเกรด ","")))) -> จำนวน นร. -สมรรถนะ ไม่ตรงกับ จำนวนเกรด
C24: =IF(B23="","","ร้อยละ") -> ร้อยละ | D24: =IF($B$23="","",SUM(E24:N24)) -> #DIV/0! | K24: =IF($B$23="","",(K23*100)/$D$23) -> #DIV/0! | L24: =IF($B$23="","",(L23*100)/$D$23) -> #DIV/0! | M24: =IF($B$23="","",(M23*100)/$D$23) -> #DIV/0! | N24: =IF($B$23="","",(N23*100)/$D$23) -> #DIV/0! | O24: =IF($B$23="","",(O23*100)/$D$23) -> #DIV/0! | P24: =IF($B$23="","",(P23*100)/$D$23) -> #DIV/0! | Q24: =IF($B$23="","",(Q23*100)/$D$23) -> #DIV/0! | R24: =IF($B$23="","",(R23*100)/$D$23) -> #DIV/0! | ... Z24: =IF($B$23="","",(Z23*100)/$D$23) -> #DIV/0!
A25: =IF(B25="","","ม."&$L$10&IF($L$10="","","/")) -> ม.1/ | B25: 3 | C25: =IF(B25="","","จำนวน") -> จำนวน | D25: =IF($B$25="","",SUM(E25:N25)) -> 0 | W25: =IF(B25="","",COUNTIFS(p7aptitude!C:C,key!X3,p7aptitude!M:M,"ดีเยี่ยม")) -> 30 | X25: =IF(B25="","",COUNTIFS(p7aptitude!C:C,key!X3,p7aptitude!M:M,"ดี")) -> 0 | Y25: =IF(B25="","",COUNTIFS(p7aptitude!C:C,key!X3,p7aptitude!M:M,"ผ่าน")) -> 0 | Z25: =IF(B25="","",COUNTIFS(p7aptitude!C:C,key!X3,p7aptitude!M:M,"ไม่ผ่าน")) -> 0 | AA25: =IF(B25="","",IF(SUM(O25:R25)<>D25," จำนวน นร. -คุณลักษณะ ไม่ตรงกับ จำนวนเกรด ",IF(SUM(S25:V25)<>D25," จำนวน นร."&key!X5&" -อ่าน คิด จำนวนเกรด ",IF(SUM(W25:Z25)<>D25," จำนวน นร. -สมรรถนะ ไม่ตรงกับ จำนวนเกรด ","")))) -> จำนวน นร. -สมรรถนะ ไม่ตรงกับ จำนวนเกรด
C26: =IF(B25="","","ร้อยละ") -> ร้อยละ | D26: =IF($B$25="","",SUM(E26:N26)) -> #DIV/0! | K26: =IF($B$25="","",(K25*100)/$D$25) -> #DIV/0! | L26: =IF($B$25="","",(L25*100)/$D$25) -> #DIV/0! | M26: =IF($B$25="","",(M25*100)/$D$25) -> #DIV/0! | N26: =IF($B$25="","",(N25*100)/$D$25) -> #DIV/0! | O26: =IF($B$25="","",(O25*100)/$D$25) -> #DIV/0! | P26: =IF($B$25="","",(P25*100)/$D$25) -> #DIV/0! | Q26: =IF($B$25="","",(Q25*100)/$D$25) -> #DIV/0! | R26: =IF($B$25="","",(R25*100)/$D$25) -> #DIV/0! | ... Z26: =IF($B$25="","",(Z25*100)/$D$25) -> #DIV/0!
A27: =IF(B27="","","ม."&$L$10&IF($L$10="","","/")) -> ม.1/ | B27: 4 | C27: =IF(B27="","","จำนวน") -> จำนวน | D27: =IF($B$27="","",SUM(E27:N27)) -> 0 | W27: =IF(B27="","",COUNTIFS(p7aptitude!C:C,key!X4,p7aptitude!M:M,"ดีเยี่ยม")) -> 32 | X27: =IF(B27="","",COUNTIFS(p7aptitude!C:C,key!X4,p7aptitude!M:M,"ดี")) -> 0 | Y27: =IF(B27="","",COUNTIFS(p7aptitude!C:C,key!X4,p7aptitude!M:M,"ผ่าน")) -> 0 | Z27: =IF(B27="","",COUNTIFS(p7aptitude!C:C,key!X4,p7aptitude!M:M,"ไม่ผ่าน")) -> 0 | AA27: =IF(B27="","",IF(SUM(O27:R27)<>D27," จำนวน นร. -คุณลักษณะ ไม่ตรงกับ จำนวนเกรด ",IF(SUM(S27:V27)<>D27," จำนวน นร."&key!X7&" -อ่าน คิด จำนวนเกรด ",IF(SUM(W27:Z27)<>D27," จำนวน นร. -สมรรถนะ ไม่ตรงกับ จำนวนเกรด ","")))) -> จำนวน นร. -สมรรถนะ ไม่ตรงกับ จำนวนเกรด
C28: =IF(B27="","","ร้อยละ") -> ร้อยละ | D28: =IF($B$27="","",SUM(E28:N28)) -> #DIV/0! | K28: =IF($B$27="","",(K27*100)/$D$27) -> #DIV/0! | L28: =IF($B$27="","",(L27*100)/$D$27) -> #DIV/0! | M28: =IF($B$27="","",(M27*100)/$D$27) -> #DIV/0! | N28: =IF($B$27="","",(N27*100)/$D$27) -> #DIV/0! | O28: =IF($B$27="","",(O27*100)/$D$27) -> #DIV/0! | P28: =IF($B$27="","",(P27*100)/$D$27) -> #DIV/0! | Q28: =IF($B$27="","",(Q27*100)/$D$27) -> #DIV/0! | R28: =IF($B$27="","",(R27*100)/$D$27) -> #DIV/0! | ... Z28: =IF($B$27="","",(Z27*100)/$D$27) -> #DIV/0!
A29: =IF(B29="","","ม."&$L$10&IF($L$10="","","/")) -> ม.1/ | B29: 5 | C29: =IF(B29="","","จำนวน") -> จำนวน | D29: =IF($B$29="","",SUM(E29:N29)) -> 0 | W29: =IF(B29="","",COUNTIFS(p7aptitude!C:C,key!X5,p7aptitude!M:M,"ดีเยี่ยม")) -> 32 | X29: =IF(B29="","",COUNTIFS(p7aptitude!C:C,key!X5,p7aptitude!M:M,"ดี")) -> 0 | Y29: =IF(B29="","",COUNTIFS(p7aptitude!C:C,key!X5,p7aptitude!M:M,"ผ่าน")) -> 0 | Z29: =IF(B29="","",COUNTIFS(p7aptitude!C:C,key!X5,p7aptitude!M:M,"ไม่ผ่าน")) -> 0 | AA29: =IF(B29="","",IF(SUM(O29:R29)<>D29," จำนวน นร. -คุณลักษณะ ไม่ตรงกับ จำนวนเกรด ",IF(SUM(S29:V29)<>D29," จำนวน นร."&key!X9&" -อ่าน คิด จำนวนเกรด ",IF(SUM(W29:Z29)<>D29," จำนวน นร. -สมรรถนะ ไม่ตรงกับ จำนวนเกรด ","")))) -> จำนวน นร. -สมรรถนะ ไม่ตรงกับ จำนวนเกรด
C30: =IF(B29="","","ร้อยละ") -> ร้อยละ | D30: =IF($B$29="","",SUM(E30:N30)) -> #DIV/0! | K30: =IF($B$29="","",(K29*100)/$D$29) -> #DIV/0! | L30: =IF($B$29="","",(L29*100)/$D$29) -> #DIV/0! | M30: =IF($B$29="","",(M29*100)/$D$29) -> #DIV/0! | N30: =IF($B$29="","",(N29*100)/$D$29) -> #DIV/0! | O30: =IF($B$29="","",(O29*100)/$D$29) -> #DIV/0! | P30: =IF($B$29="","",(P29*100)/$D$29) -> #DIV/0! | Q30: =IF($B$29="","",(Q29*100)/$D$29) -> #DIV/0! | R30: =IF($B$29="","",(R29*100)/$D$29) -> #DIV/0! | ... Z30: =IF($B$29="","",(Z29*100)/$D$29) -> #DIV/0!
A31: =IF(B31="","","ม."&$L$10&IF($L$10="","","/")) -> ม.1/ | B31: 6 | C31: =IF(B31="","","จำนวน") -> จำนวน | D31: =IF($B$31="","",SUM(E31:N31)) -> 0 | W31: =IF(B31="","",COUNTIFS(p7aptitude!C:C,key!X6,p7aptitude!M:M,"ดีเยี่ยม")) -> 29 | X31: =IF(B31="","",COUNTIFS(p7aptitude!C:C,key!X6,p7aptitude!M:M,"ดี")) -> 0 | Y31: =IF(B31="","",COUNTIFS(p7aptitude!C:C,key!X6,p7aptitude!M:M,"ผ่าน")) -> 0 | Z31: =IF(B31="","",COUNTIFS(p7aptitude!C:C,key!X6,p7aptitude!M:M,"ไม่ผ่าน")) -> 0 | AA31: =IF(B31="","",IF(SUM(O31:R31)<>D31," จำนวน นร. -คุณลักษณะ ไม่ตรงกับ จำนวนเกรด ",IF(SUM(S31:V31)<>D31," จำนวน นร."&key!X11&" -อ่าน คิด จำนวนเกรด ",IF(SUM(W31:Z31)<>D31," จำนวน นร. -สมรรถนะ ไม่ตรงกับ จำนวนเกรด ","")))) -> จำนวน นร. -สมรรถนะ ไม่ตรงกับ จำนวนเกรด
C32: =IF(B31="","","ร้อยละ") -> ร้อยละ | D32: =IF($B$31="","",SUM(E32:N32)) -> #DIV/0! | K32: =IF($B$31="","",(K31*100)/$D$31) -> #DIV/0! | L32: =IF($B$31="","",(L31*100)/$D$31) -> #DIV/0! | M32: =IF($B$31="","",(M31*100)/$D$31) -> #DIV/0! | N32: =IF($B$31="","",(N31*100)/$D$31) -> #DIV/0! | O32: =IF($B$31="","",(O31*100)/$D$31) -> #DIV/0! | P32: =IF($B$31="","",(P31*100)/$D$31) -> #DIV/0! | Q32: =IF($B$31="","",(Q31*100)/$D$31) -> #DIV/0! | R32: =IF($B$31="","",(R31*100)/$D$31) -> #DIV/0! | ... Z32: =IF($B$31="","",(Z31*100)/$D$31) -> #DIV/0!
A33: =IF(B33="","","ม."&$L$10&IF($L$10="","","/")) -> ม.1/ | B33: 7 | C33: =IF(B33="","","จำนวน") -> จำนวน | D33: =IF($B$33="","",SUM(E33:N33)) -> 0 | W33: =IF(B33="","",COUNTIFS(p7aptitude!C:C,key!X7,p7aptitude!M:M,"ดีเยี่ยม")) -> 5 | X33: =IF(B33="","",COUNTIFS(p7aptitude!C:C,key!X7,p7aptitude!M:M,"ดี")) -> 0 | Y33: =IF(B33="","",COUNTIFS(p7aptitude!C:C,key!X8,p7aptitude!M:M,"ผ่าน")) -> 0 | Z33: =IF(B33="","",COUNTIFS(p7aptitude!C:C,key!X8,p7aptitude!M:M,"ไม่ผ่าน")) -> 0 | AA33: =IF(B33="","",IF(SUM(O33:R33)<>D33," จำนวน นร. -คุณลักษณะ ไม่ตรงกับ จำนวนเกรด ",IF(SUM(S33:V33)<>D33," จำนวน นร."&key!X13&" -อ่าน คิด จำนวนเกรด ",IF(SUM(W33:Z33)<>D33," จำนวน นร. -สมรรถนะ ไม่ตรงกับ จำนวนเกรด ","")))) -> จำนวน นร. -สมรรถนะ ไม่ตรงกับ จำนวนเกรด
C34: =IF(B33="","","ร้อยละ") -> ร้อยละ | D34: =IF($B$33="","",SUM(E34:N34)) -> #DIV/0! | K34: =IF($B$33="","",(K33*100)/$D$33) -> #DIV/0! | L34: =IF($B$33="","",(L33*100)/$D$33) -> #DIV/0! | M34: =IF($B$33="","",(M33*100)/$D$33) -> #DIV/0! | N34: =IF($B$33="","",(N33*100)/$D$33) -> #DIV/0! | O34: =IF($B$33="","",(O33*100)/$D$33) -> #DIV/0! | P34: =IF($B$33="","",(P33*100)/$D$33) -> #DIV/0! | Q34: =IF($B$33="","",(Q33*100)/$D$33) -> #DIV/0! | R34: =IF($B$33="","",(R33*100)/$D$33) -> #DIV/0! | ... Z34: =IF($B$33="","",(Z33*100)/$D$33) -> #DIV/0!
A35: รวม | D35: =SUM(D21,D23,D25,D27,D29,D31,D33) -> 0 | E35: =E21+E23+E25+E27+E29+E31+E33 -> 0 | F35: =F21+F23+F25+F27+F29+F31+F33 -> 0 | G35: =G21+G23+G25+G27+G29+G31+G33 -> 0 | H35: =H21+H23+H25+H27+H29+H31+H33 -> 0 | I35: =I21+I23+I25+I27+I29+I31+I33 -> 0 | J35: =J21+J23+J25+J27+J29+J31+J33 -> 0 | K35: =K21+K23+K25+K27+K29+K31+K33 -> 0 | L35: =L21+L23+L25+L27+L29+L31+L33 -> 0 | ... Z35: =Z21+Z23+Z25+Z27+Z29+Z31+Z33 -> 0
A36: ร้อยละ | D36: =IF(D35=0,"",SUM(E36:N36)) | E36: =IFERROR((E35*100)/$D$35,"") | F36: =IFERROR((F35*100)/$D$35,"") | G36: =IFERROR((G35*100)/$D$35,"") | H36: =IFERROR((H35*100)/$D$35,"") | I36: =IFERROR((I35*100)/$D$35,"") | J36: =IFERROR((J35*100)/$D$35,"") | K36: =IFERROR((K35*100)/$D$35,"") | L36: =IFERROR((L35*100)/$D$35,"") | ... Z36: =IFERROR((Z35*100)/$D$35,"")
A39: การอนุมัติผลการเรียน
G42: ลงชื่อ | V42: ครูผู้สอน
K43: ( | L43: =E16 -> ----------เลือกรายชื่อ--------- | S43: )
G46: ลงชื่อ | V46: หัวหน้ากลุ่มสาระการเรียนรู้
K47: ( | L47: =IF(p01pok!E12=key!F3,key!M3,IF(E12=key!F4,key!M4,IF(p01pok!E12=key!F5,key!M5,IF(p01pok!E12=key!F6,key!M6,IF(E12=key!F7,key!M7,IF(p01pok!E12=key!F8,key!M8,IF(p01pok!E12=key!F9,key!M9,IF(p01pok!E12=key!F10,key!M10,IF(p01pok!E12=key!F11,key!M11))))))))) -> นางนฤมล รัตนานุสรณ์ | S47: )
G50: ลงชื่อ | V50: งานวัดผล
K51: ( | L51: นางสาววรรณรท หงษ์ประสิทธิ์ | S51: )
A55: เรียนเสนอเพื่อโปรดพิจารณา
G57: ลงชื่อ | V57: รองผู้อำนวยการ
K58: ( | L58: นางสาวพรรณิกา ป้องหานาค | S58: )
H60: อนุมัติ | M60: ไม่อนุมัติ
R61: ( | S61: นายภราดร พวงประโคน | Z61: )
Q62: ผู้อำนวยการโรงเรียนขามทะเลสอวิทยา
Q63: วันที่ 5 เดือน ตุลาคม พ.ศ. 2569

Sheet p1course
A2: =key!I3 -> คำอธิบายรายวิชา
A4: วิชา | B4: =p01pok!O12 -> xxxxxxxxxxxxxxxxxx | J4: รหัสวิชา | L4: =p01pok!Y12 -> xxxxxx | P4: กลุ่มสาระการเรียนรู้ | S4: =p01pok!E12 -> กิจกรรมพัฒนาผู้เรียน
A5: ชั้นมัธยมศึกษาปีที่ | D5: =p01pok!L10 -> 1 | K5: ภาคเรียนที่ | N5: =p01pok!Q10 -> 1 | S5: ปีการศึกษา | U5: =p01pok!V10 -> 2569
A6: เวลา | B6: =p01pok!K14*20 -> 20 | C6: ชั่วโมง/ภาคเรียน | G6: จำนวน | I6: =p01pok!E14 -> 0 | J6: หน่วยกิต | L6: ครูผู้สอน | N6: =p01pok!E16 -> ----------เลือกรายชื่อ---------
A8: ***/ใส่คำอธิบายรายวิชา/*** *** ดับเบิลคลิก เพิ่มข้อมูล *** *** หากจะขึ้นบรรทัดใหม่ให้ กดปุ่ม Alt + Enter ***

Sheet p2out1
A2: =key!I4 -> ตัวชี้วัด/ผลการเรียนรู้
A4: วิชา | B4: =p01pok!O12 -> xxxxxxxxxxxxxxxxxx | J4: รหัสวิชา | L4: =p01pok!Y12 -> xxxxxx | P4: กลุ่มสาระการเรียนรู้ | S4: =p01pok!E12 -> กิจกรรมพัฒนาผู้เรียน
A5: ชั้นมัธยมศึกษาปีที่ | D5: =p01pok!L10 -> 1 | K5: ภาคเรียนที่ | N5: =p01pok!Q10 -> 1 | S5: ปีการศึกษา | U5: =p01pok!V10 -> 2569
A6: เวลา | B6: =p01pok!K14*20 -> 20 | C6: ชั่วโมง/ภาคเรียน | G6: จำนวน | I6: =p01pok!E14 -> 0 | J6: หน่วยกิต | N6: ครูผู้สอน | Q6: =p01pok!E16 -> ----------เลือกรายชื่อ---------
A8: **//ใส่ ตัวชี้วัด / ผลการเรียนรู้ ระหว่างทาง ปลายทาง //** *** ดับเบิลคลิก เพิ่มข้อมูล *** *** หากจะขึ้นบรรทัดใหม่ให้ กดปุ่ม Alt + Enter ***

Sheet p3str1
A2: โครงสร้างรายวิชา | D2: =p01pok!O12 -> xxxxxxxxxxxxxxxxxx | O2: รหัสวิชา | R2: =p01pok!Y12 -> xxxxxx
A3: ชั้นมัธยมศึกษาปีที่ | D3: =p01pok!L10 -> 1 | J3: ภาคเรียน | L3: =p01pok!Q10 -> 1 | S3: ปีการศึกษา | V3: =p01pok!V10 -> 2569
A5: สัดส่วนคะแนน
A6: =CONCATENATE("ระหว่างภาค : กลางภาค : ปลายภาค = ",S29," : ",U29," : ",W29) -> ระหว่างภาค : กลางภาค : ปลายภาค = 0 : 0 : 0
A8: หน่วย การเรียนรู้ที่ | K8: ตัวชี้วัด/ผลการเรียนรู้ | P8: เวลา | S8: คะแนน | Y8: รวม
B9: ชื่อหน่วยการเรียนรู้ | S9: ระหว่าง | U9: กลาง | W9: ปลาย | Y9: น้ำหนัก
P10: (ชั่วโมง) | S10: ภาค | U10: ภาค | W10: ภาค | Y10: คะแนน
A11: สัดส่วนคะแนนก่อนกลางภาค
Y12: =IF(SUM(S12:X12)=0,,SUM(S12:X12)) -> 0
Y13: =IF(SUM(S13:X13)=0,,SUM(S13:X13)) -> 0
Y14: =IF(SUM(S14:X14)=0,,SUM(S14:X14)) -> 0
Y15: =IF(SUM(S15:X15)=0,,SUM(S15:X15)) -> 0
Y16: =IF(SUM(S16:X16)=0,,SUM(S16:X16)) -> 0
Y17: =IF(SUM(S17:X17)=0,,SUM(S17:X17)) -> 0
Y18: =IF(SUM(S18:X18)=0,,SUM(S18:X18)) -> 0
A19: รวมสัดส่วนคะแนนก่อนกลางภาค | P19: =SUM(P12:P18) -> 0 | S19: =SUM(S12:S18) -> 0 | U19: =SUM(U12:U18) -> 0 | W19: =SUM(W12:W18) -> 0 | Y19: =SUM(Y12:Y18) -> 0
A20: สัดส่วนคะแนนหลังกลางภาค
Y21: =IF(SUM(S21:X21)=0,,SUM(S21:X21)) -> 0
Y22: =IF(SUM(S22:X22)=0,,SUM(S22:X22)) -> 0
Y23: =IF(SUM(S23:X23)=0,,SUM(S23:X23)) -> 0
Y24: =IF(SUM(S24:X24)=0,,SUM(S24:X24)) -> 0
Y25: =IF(SUM(S25:X25)=0,,SUM(S25:X25)) -> 0
Y26: =IF(SUM(S26:X26)=0,,SUM(S26:X26)) -> 0
Y27: =IF(SUM(S27:X27)=0,,SUM(S27:X27)) -> 0
A28: รวมสัดส่วนคะแนนหลังกลางภาค | P28: =SUM(P21:P27) -> 0 | S28: =SUM(S21:S27) -> 0 | U28: =SUM(U21:U27) -> 0 | W28: =SUM(W21:W27) -> 0 | Y28: =SUM(Y21:Y27) -> 0
A29: รวม | P29: =SUM(P19,P28) -> 0 | S29: =SUM(S19,S28) -> 0 | U29: =SUM(U19,U28) -> 0 | W29: =SUM(W19,W28) -> 0 | Y29: =SUM(Y19,Y28) -> 0

Sheet p7aptitude
A1: =" ผลการประเมินสมรรถนะสำคัญของผู้เรียน" -> ผลการประเมินสมรรถนะสำคัญของผู้เรียน
A2: รายการประเมิน | F2: ข้อ.1 ความสามารถในการสื่อสาร | G2: ข้อ.2 ความสามารถในการคิด | H2: ข้อ.3 ความสามารถในการแก้ปัญหา | I2: ข้อ.4 ความสามารถในการใช้ทักษะชีวิต | J2: ข้อ.5 ความสามารถในการใช้เทคโนโลยี | K2: รวม | L2: ระดับกรประเมิน | M2: ผลการประเมิน
A8: เลขที่ | B8: รหัสนักเรียน | C8: ชั้น | D8: ชื่อ-นามสกุล | F8: ระดับคะแนนได้แก่
F9: 0=ไม่ผ่าน 1=ผ่าน 2=ดี 3=ดีเยี่ยม
A10: {=_xlfn._xlws.FILTER(key!Q:U,ISNUMBER(MATCH(key!S:S,key!X1:X7,0)),"ไม่พบ")} -> 1 | B10: 15839 | C10: ม.1/1 | D10: เด็กชายกิตติธร | E10: ธิมา | F10: =IF($B10="","",3) -> 3 | G10: =IF($B10="","",3) -> 3 | H10: =IF($B10="","",3) -> 3 | I10: =IF($B10="","",3) -> 3 | J10: =IF($B10="","",3) -> 3 | K10: =IF(C10="","",IF(COUNTA(F10:J10)>0,AVERAGE(F10:J10),)) -> 3 | L10: =IF(C10="","",IF(COUNTA(F10:J10)>0,IF(COUNTIF(F10:J10,"0")>0,0,IF(K10>2.75,3,IF(K10>=1.75,2,IF(K10>=1,1,IF(K10<1,0,))))),)) -> 3 | M10: =IF(C10="","",IF(COUNTA(F10:J10)>0,IF(COUNTIF(F10:J10,"0")>0,"ไม่ผ่าน",IF(K10>2.75,"ดีเยี่ยม",IF(K10>=1.75,"ดี",IF(K10>=1,"ผ่าน",IF(K10<1,"ไม่ผ่าน",))))),)) -> ดีเยี่ยม
A11: 2 | B11: 15840 | C11: ม.1/1 | D11: เด็กชายฐกฤต | E11: คชรัตน์ | F11: =IF($B11="","",3) -> 3 | G11: =IF($B11="","",3) -> 3 | H11: =IF($B11="","",3) -> 3 | I11: =IF($B11="","",3) -> 3 | J11: =IF($B11="","",3) -> 3 | K11: =IF(C11="","",IF(COUNTA(F11:J11)>0,AVERAGE(F11:J11),)) -> 3 | L11: =IF(C11="","",IF(COUNTA(F11:J11)>0,IF(COUNTIF(F11:J11,"0")>0,0,IF(K11>2.75,3,IF(K11>=1.75,2,IF(K11>=1,1,IF(K11<1,0,))))),)) -> 3 | M11: =IF(C11="","",IF(COUNTA(F11:J11)>0,IF(COUNTIF(F11:J11,"0")>0,"ไม่ผ่าน",IF(K11>2.75,"ดีเยี่ยม",IF(K11>=1.75,"ดี",IF(K11>=1,"ผ่าน",IF(K11<1,"ไม่ผ่าน",))))),)) -> ดีเยี่ยม
A12: 3 | B12: 15841 | C12: ม.1/1 | D12: เด็กชายณวัฒน์ | E12: เหมวัฒน์ | F12: =IF($B12="","",3) -> 3 | G12: =IF($B12="","",3) -> 3 | H12: =IF($B12="","",3) -> 3 | I12: =IF($B12="","",3) -> 3 | J12: =IF($B12="","",3) -> 3 | K12: =IF(C12="","",IF(COUNTA(F12:J12)>0,AVERAGE(F12:J12),)) -> 3 | L12: =IF(C12="","",IF(COUNTA(F12:J12)>0,IF(COUNTIF(F12:J12,"0")>0,0,IF(K12>2.75,3,IF(K12>=1.75,2,IF(K12>=1,1,IF(K12<1,0,))))),)) -> 3 | M12: =IF(C12="","",IF(COUNTA(F12:J12)>0,IF(COUNTIF(F12:J12,"0")>0,"ไม่ผ่าน",IF(K12>2.75,"ดีเยี่ยม",IF(K12>=1.75,"ดี",IF(K12>=1,"ผ่าน",IF(K12<1,"ไม่ผ่าน",))))),)) -> ดีเยี่ยม
A13: 4 | B13: 15842 | C13: ม.1/1 | D13: เด็กชายณัฐพล | E13: ศรีอภัย | F13: =IF($B13="","",3) -> 3 | G13: =IF($B13="","",3) -> 3 | H13: =IF($B13="","",3) -> 3 | I13: =IF($B13="","",3) -> 3 | J13: =IF($B13="","",3) -> 3 | K13: =IF(C13="","",IF(COUNTA(F13:J13)>0,AVERAGE(F13:J13),)) -> 3 | L13: =IF(C13="","",IF(COUNTA(F13:J13)>0,IF(COUNTIF(F13:J13,"0")>0,0,IF(K13>2.75,3,IF(K13>=1.75,2,IF(K13>=1,1,IF(K13<1,0,))))),)) -> 3 | M13: =IF(C13="","",IF(COUNTA(F13:J13)>0,IF(COUNTIF(F13:J13,"0")>0,"ไม่ผ่าน",IF(K13>2.75,"ดีเยี่ยม",IF(K13>=1.75,"ดี",IF(K13>=1,"ผ่าน",IF(K13<1,"ไม่ผ่าน",))))),)) -> ดีเยี่ยม
A14: 5 | B14: 15843 | C14: ม.1/1 | D14: เด็กชายพัชรพล | E14: จิตตะไชย | F14: =IF($B14="","",3) -> 3 | G14: =IF($B14="","",3) -> 3 | H14: =IF($B14="","",3) -> 3 | I14: =IF($B14="","",3) -> 3 | J14: =IF($B14="","",3) -> 3 | K14: =IF(C14="","",IF(COUNTA(F14:J14)>0,AVERAGE(F14:J14),)) -> 3 | L14: =IF(C14="","",IF(COUNTA(F14:J14)>0,IF(COUNTIF(F14:J14,"0")>0,0,IF(K14>2.75,3,IF(K14>=1.75,2,IF(K14>=1,1,IF(K14<1,0,))))),)) -> 3 | M14: =IF(C14="","",IF(COUNTA(F14:J14)>0,IF(COUNTIF(F14:J14,"0")>0,"ไม่ผ่าน",IF(K14>2.75,"ดีเยี่ยม",IF(K14>=1.75,"ดี",IF(K14>=1,"ผ่าน",IF(K14<1,"ไม่ผ่าน",))))),)) -> ดีเยี่ยม
A15: 6 | B15: 15844 | C15: ม.1/1 | D15: เด็กชายภูริณัฐ | E15: เจิมขุนทด | F15: =IF($B15="","",3) -> 3 | G15: =IF($B15="","",3) -> 3 | H15: =IF($B15="","",3) -> 3 | I15: =IF($B15="","",3) -> 3 | J15: =IF($B15="","",3) -> 3 | K15: =IF(C15="","",IF(COUNTA(F15:J15)>0,AVERAGE(F15:J15),)) -> 3 | L15: =IF(C15="","",IF(COUNTA(F15:J15)>0,IF(COUNTIF(F15:J15,"0")>0,0,IF(K15>2.75,3,IF(K15>=1.75,2,IF(K15>=1,1,IF(K15<1,0,))))),)) -> 3 | M15: =IF(C15="","",IF(COUNTA(F15:J15)>0,IF(COUNTIF(F15:J15,"0")>0,"ไม่ผ่าน",IF(K15>2.75,"ดีเยี่ยม",IF(K15>=1.75,"ดี",IF(K15>=1,"ผ่าน",IF(K15<1,"ไม่ผ่าน",))))),)) -> ดีเยี่ยม
A16: 7 | B16: 15845 | C16: ม.1/1 | D16: เด็กชายสิทธินนท์ | E16: ภิลัยวรรณ | F16: =IF($B16="","",3) -> 3 | G16: =IF($B16="","",3) -> 3 | H16: =IF($B16="","",3) -> 3 | I16: =IF($B16="","",3) -> 3 | J16: =IF($B16="","",3) -> 3 | K16: =IF(C16="","",IF(COUNTA(F16:J16)>0,AVERAGE(F16:J16),)) -> 3 | L16: =IF(C16="","",IF(COUNTA(F16:J16)>0,IF(COUNTIF(F16:J16,"0")>0,0,IF(K16>2.75,3,IF(K16>=1.75,2,IF(K16>=1,1,IF(K16<1,0,))))),)) -> 3 | M16: =IF(C16="","",IF(COUNTA(F16:J16)>0,IF(COUNTIF(F16:J16,"0")>0,"ไม่ผ่าน",IF(K16>2.75,"ดีเยี่ยม",IF(K16>=1.75,"ดี",IF(K16>=1,"ผ่าน",IF(K16<1,"ไม่ผ่าน",))))),)) -> ดีเยี่ยม
A17: 8 | B17: 15846 | C17: ม.1/1 | D17: เด็กชายสิริมงคล | E17: ปราณีตพลกรัง | F17: =IF($B17="","",3) -> 3 | G17: =IF($B17="","",3) -> 3 | H17: =IF($B17="","",3) -> 3 | I17: =IF($B17="","",3) -> 3 | J17: =IF($B17="","",3) -> 3 | K17: =IF(C17="","",IF(COUNTA(F17:J17)>0,AVERAGE(F17:J17),)) -> 3 | L17: =IF(C17="","",IF(COUNTA(F17:J17)>0,IF(COUNTIF(F17:J17,"0")>0,0,IF(K17>2.75,3,IF(K17>=1.75,2,IF(K17>=1,1,IF(K17<1,0,))))),)) -> 3 | M17: =IF(C17="","",IF(COUNTA(F17:J17)>0,IF(COUNTIF(F17:J17,"0")>0,"ไม่ผ่าน",IF(K17>2.75,"ดีเยี่ยม",IF(K17>=1.75,"ดี",IF(K17>=1,"ผ่าน",IF(K17<1,"ไม่ผ่าน",))))),)) -> ดีเยี่ยม
A18: 9 | B18: 15847 | C18: ม.1/1 | D18: เด็กหญิงกนกพร | E18: พิไลพงษ์ | F18: =IF($B18="","",3) -> 3 | G18: =IF($B18="","",3) -> 3 | H18: =IF($B18="","",3) -> 3 | I18: =IF($B18="","",3) -> 3 | J18: =IF($B18="","",3) -> 3 | K18: =IF(C18="","",IF(COUNTA(F18:J18)>0,AVERAGE(F18:J18),)) -> 3 | L18: =IF(C18="","",IF(COUNTA(F18:J18)>0,IF(COUNTIF(F18:J18,"0")>0,0,IF(K18>2.75,3,IF(K18>=1.75,2,IF(K18>=1,1,IF(K18<1,0,))))),)) -> 3 | M18: =IF(C18="","",IF(COUNTA(F18:J18)>0,IF(COUNTIF(F18:J18,"0")>0,"ไม่ผ่าน",IF(K18>2.75,"ดีเยี่ยม",IF(K18>=1.75,"ดี",IF(K18>=1,"ผ่าน",IF(K18<1,"ไม่ผ่าน",))))),)) -> ดีเยี่ยม
A19: 10 | B19: 15848 | C19: ม.1/1 | D19: เด็กหญิงจิรัชยา | E19: อุปัชฌาย์ | F19: =IF($B19="","",3) -> 3 | G19: =IF($B19="","",3) -> 3 | H19: =IF($B19="","",3) -> 3 | I19: =IF($B19="","",3) -> 3 | J19: =IF($B19="","",3) -> 3 | K19: =IF(C19="","",IF(COUNTA(F19:J19)>0,AVERAGE(F19:J19),)) -> 3 | L19: =IF(C19="","",IF(COUNTA(F19:J19)>0,IF(COUNTIF(F19:J19,"0")>0,0,IF(K19>2.75,3,IF(K19>=1.75,2,IF(K19>=1,1,IF(K19<1,0,))))),)) -> 3 | M19: =IF(C19="","",IF(COUNTA(F19:J19)>0,IF(COUNTIF(F19:J19,"0")>0,"ไม่ผ่าน",IF(K19>2.75,"ดีเยี่ยม",IF(K19>=1.75,"ดี",IF(K19>=1,"ผ่าน",IF(K19<1,"ไม่ผ่าน",))))),)) -> ดีเยี่ยม
A20: 11 | B20: 15849 | C20: ม.1/1 | D20: เด็กหญิงณัฐณิชา | E20: สบเหมาะ | F20: =IF($B20="","",3) -> 3 | G20: =IF($B20="","",3) -> 3 | H20: =IF($B20="","",3) -> 3 | I20: =IF($B20="","",3) -> 3 | J20: =IF($B20="","",3) -> 3 | K20: =IF(C20="","",IF(COUNTA(F20:J20)>0,AVERAGE(F20:J20),)) -> 3 | L20: =IF(C20="","",IF(COUNTA(F20:J20)>0,IF(COUNTIF(F20:J20,"0")>0,0,IF(K20>2.75,3,IF(K20>=1.75,2,IF(K20>=1,1,IF(K20<1,0,))))),)) -> 3 | M20: =IF(C20="","",IF(COUNTA(F20:J20)>0,IF(COUNTIF(F20:J20,"0")>0,"ไม่ผ่าน",IF(K20>2.75,"ดีเยี่ยม",IF(K20>=1.75,"ดี",IF(K20>=1,"ผ่าน",IF(K20<1,"ไม่ผ่าน",))))),)) -> ดีเยี่ยม
A21: 12 | B21: 15850 | C21: ม.1/1 | D21: เด็กหญิงธันยารัตน์ | E21: เกงขุนทด | F21: =IF($B21="","",3) -> 3 | G21: =IF($B21="","",3) -> 3 | H21: =IF($B21="","",3) -> 3 | I21: =IF($B21="","",3) -> 3 | J21: =IF($B21="","",3) -> 3 | K21: =IF(C21="","",IF(COUNTA(F21:J21)>0,AVERAGE(F21:J21),)) -> 3 | L21: =IF(C21="","",IF(COUNTA(F21:J21)>0,IF(COUNTIF(F21:J21,"0")>0,0,IF(K21>2.75,3,IF(K21>=1.75,2,IF(K21>=1,1,IF(K21<1,0,))))),)) -> 3 | M21: =IF(C21="","",IF(COUNTA(F21:J21)>0,IF(COUNTIF(F21:J21,"0")>0,"ไม่ผ่าน",IF(K21>2.75,"ดีเยี่ยม",IF(K21>=1.75,"ดี",IF(K21>=1,"ผ่าน",IF(K21<1,"ไม่ผ่าน",))))),)) -> ดีเยี่ยม
A22: 13 | B22: 15851 | C22: ม.1/1 | D22: เด็กหญิงพรหมพร | E22: ประเสริฐพงศ์ธร | F22: =IF($B22="","",3) -> 3 | G22: =IF($B22="","",3) -> 3 | H22: =IF($B22="","",3) -> 3 | I22: =IF($B22="","",3) -> 3 | J22: =IF($B22="","",3) -> 3 | K22: =IF(C22="","",IF(COUNTA(F22:J22)>0,AVERAGE(F22:J22),)) -> 3 | L22: =IF(C22="","",IF(COUNTA(F22:J22)>0,IF(COUNTIF(F22:J22,"0")>0,0,IF(K22>2.75,3,IF(K22>=1.75,2,IF(K22>=1,1,IF(K22<1,0,))))),)) -> 3 | M22: =IF(C22="","",IF(COUNTA(F22:J22)>0,IF(COUNTIF(F22:J22,"0")>0,"ไม่ผ่าน",IF(K22>2.75,"ดีเยี่ยม",IF(K22>=1.75,"ดี",IF(K22>=1,"ผ่าน",IF(K22<1,"ไม่ผ่าน",))))),)) -> ดีเยี่ยม
... A39: 13 | B39: 15869 | C39: ม.1/2 | D39: เด็กหญิงธัญวรัฒน์ | E39: หม้อปลัดชัย | F39: =IF($B39="","",3) -> 3 | G39: =IF($B39="","",3) -> 3 | H39: =IF($B39="","",3) -> 3 | I39: =IF($B39="","",3) -> 3 | J39: =IF($B39="","",3) -> 3 | K39: =IF(C39="","",IF(COUNTA(F39:J39)>0,AVERAGE(F39:J39),)) -> 3 | L39: =IF(C39="","",IF(COUNTA(F39:J39)>0,IF(COUNTIF(F39:J39,"0")>0,0,IF(K39>2.75,3,IF(K39>=1.75,2,IF(K39>=1,1,IF(K39<1,0,))))),)) -> 3 | M39: =IF(C39="","",IF(COUNTA(F39:J39)>0,IF(COUNTIF(F39:J39,"0")>0,"ไม่ผ่าน",IF(K39>2.75,"ดีเยี่ยม",IF(K39>=1.75,"ดี",IF(K39>=1,"ผ่าน",IF(K39<1,"ไม่ผ่าน",))))),)) -> ดีเยี่ยม
A40: 14 | B40: 15870 | C40: ม.1/2 | D40: เด็กหญิงนฤมล | E40: กิสันเทียะ | F40: =IF($B40<>"",3,"") -> 3 | G40: =IF($B40<>"",3,"") -> 3 | H40: =IF($B40<>"",3,"") -> 3 | I40: =IF($B40<>"",3,"") -> 3 | J40: =IF($B40<>"",3,"") -> 3 | K40: =IF(C40="","",IF(COUNTA(F40:J40)>0,AVERAGE(F40:J40),)) -> 3 | L40: =IF(C40="","",IF(COUNTA(F40:J40)>0,IF(COUNTIF(F40:J40,"0")>0,0,IF(K40>2.75,3,IF(K40>=1.75,2,IF(K40>=1,1,IF(K40<1,0,))))),)) -> 3 | M40: =IF(C40="","",IF(COUNTA(F40:J40)>0,IF(COUNTIF(F40:J40,"0")>0,"ไม่ผ่าน",IF(K40>2.75,"ดีเยี่ยม",IF(K40>=1.75,"ดี",IF(K40>=1,"ผ่าน",IF(K40<1,"ไม่ผ่าน",))))),)) -> ดีเยี่ยม
A41: 15 | B41: 15871 | C41: ม.1/2 | D41: เด็กหญิงนันทภัค | E41: สารจันทร์ | F41: =IF($B41<>"",3,"") -> 3 | G41: =IF($B41<>"",3,"") -> 3 | H41: =IF($B41<>"",3,"") -> 3 | I41: =IF($B41<>"",3,"") -> 3 | J41: =IF($B41<>"",3,"") -> 3 | K41: =IF(C41="","",IF(COUNTA(F41:J41)>0,AVERAGE(F41:J41),)) -> 3 | L41: =IF(C41="","",IF(COUNTA(F41:J41)>0,IF(COUNTIF(F41:J41,"0")>0,0,IF(K41>2.75,3,IF(K41>=1.75,2,IF(K41>=1,1,IF(K41<1,0,))))),)) -> 3 | M41: =IF(C41="","",IF(COUNTA(F41:J41)>0,IF(COUNTIF(F41:J41,"0")>0,"ไม่ผ่าน",IF(K41>2.75,"ดีเยี่ยม",IF(K41>=1.75,"ดี",IF(K41>=1,"ผ่าน",IF(K41<1,"ไม่ผ่าน",))))),)) -> ดีเยี่ยม
A42: 16 | B42: 15872 | C42: ม.1/2 | D42: เด็กหญิงนิธยาภรณ์ | E42: รุ่งมะเริง | F42: =IF($B42<>"",3,"") -> 3 | G42: =IF($B42<>"",3,"") -> 3 | H42: =IF($B42<>"",3,"") -> 3 | I42: =IF($B42<>"",3,"") -> 3 | J42: =IF($B42<>"",3,"") -> 3 | K42: =IF(C42="","",IF(COUNTA(F42:J42)>0,AVERAGE(F42:J42),)) -> 3 | L42: =IF(C42="","",IF(COUNTA(F42:J42)>0,IF(COUNTIF(F42:J42,"0")>0,0,IF(K42>2.75,3,IF(K42>=1.75,2,IF(K42>=1,1,IF(K42<1,0,))))),)) -> 3 | M42: =IF(C42="","",IF(COUNTA(F42:J42)>0,IF(COUNTIF(F42:J42,"0")>0,"ไม่ผ่าน",IF(K42>2.75,"ดีเยี่ยม",IF(K42>=1.75,"ดี",IF(K42>=1,"ผ่าน",IF(K42<1,"ไม่ผ่าน",))))),)) -> ดีเยี่ยม
A43: 17 | B43: 15873 | C43: ม.1/2 | D43: เด็กหญิงพิชชาพร | E43: คอยสันเทียะ | F43: =IF($B43<>"",3,"") -> 3 | G43: =IF($B43<>"",3,"") -> 3 | H43: =IF($B43<>"",3,"") -> 3 | I43: =IF($B43<>"",3,"") -> 3 | J43: =IF($B43<>"",3,"") -> 3 | K43: =IF(C43="","",IF(COUNTA(F43:J43)>0,AVERAGE(F43:J43),)) -> 3 | L43: =IF(C43="","",IF(COUNTA(F43:J43)>0,IF(COUNTIF(F43:J43,"0")>0,0,IF(K43>2.75,3,IF(K43>=1.75,2,IF(K43>=1,1,IF(K43<1,0,))))),)) -> 3 | M43: =IF(C43="","",IF(COUNTA(F43:J43)>0,IF(COUNTIF(F43:J43,"0")>0,"ไม่ผ่าน",IF(K43>2.75,"ดีเยี่ยม",IF(K43>=1.75,"ดี",IF(K43>=1,"ผ่าน",IF(K43<1,"ไม่ผ่าน",))))),)) -> ดีเยี่ยม
A44: 18 | B44: 15874 | C44: ม.1/2 | D44: เด็กหญิงวิภาดา | E44: แซ่เฮง | F44: =IF($B44<>"",3,"") -> 3 | G44: =IF($B44<>"",3,"") -> 3 | H44: =IF($B44<>"",3,"") -> 3 | I44: =IF($B44<>"",3,"") -> 3 | J44: =IF($B44<>"",3,"") -> 3 | K44: =IF(C44="","",IF(COUNTA(F44:J44)>0,AVERAGE(F44:J44),)) -> 3 | L44: =IF(C44="","",IF(COUNTA(F44:J44)>0,IF(COUNTIF(F44:J44,"0")>0,0,IF(K44>2.75,3,IF(K44>=1.75,2,IF(K44>=1,1,IF(K44<1,0,))))),)) -> 3 | M44: =IF(C44="","",IF(COUNTA(F44:J44)>0,IF(COUNTIF(F44:J44,"0")>0,"ไม่ผ่าน",IF(K44>2.75,"ดีเยี่ยม",IF(K44>=1.75,"ดี",IF(K44>=1,"ผ่าน",IF(K44<1,"ไม่ผ่าน",))))),)) -> ดีเยี่ยม
A45: 19 | B45: 15875 | C45: ม.1/2 | D45: เด็กหญิงศิริกุล | E45: นามตาแสง | F45: =IF($B45<>"",3,"") -> 3 | G45: =IF($B45<>"",3,"") -> 3 | H45: =IF($B45<>"",3,"") -> 3 | I45: =IF($B45<>"",3,"") -> 3 | J45: =IF($B45<>"",3,"") -> 3 | K45: =IF(C45="","",IF(COUNTA(F45:J45)>0,AVERAGE(F45:J45),)) -> 3 | L45: =IF(C45="","",IF(COUNTA(F45:J45)>0,IF(COUNTIF(F45:J45,"0")>0,0,IF(K45>2.75,3,IF(K45>=1.75,2,IF(K45>=1,1,IF(K45<1,0,))))),)) -> 3 | M45: =IF(C45="","",IF(COUNTA(F45:J45)>0,IF(COUNTIF(F45:J45,"0")>0,"ไม่ผ่าน",IF(K45>2.75,"ดีเยี่ยม",IF(K45>=1.75,"ดี",IF(K45>=1,"ผ่าน",IF(K45<1,"ไม่ผ่าน",))))),)) -> ดีเยี่ยม
A46: 20 | B46: 15876 | C46: ม.1/2 | D46: เด็กหญิงสิริรัตน์ | E46: ทวีพุดซา | F46: =IF($B46<>"",3,"") -> 3 | G46: =IF($B46<>"",3,"") -> 3 | H46: =IF($B46<>"",3,"") -> 3 | I46: =IF($B46<>"",3,"") -> 3 | J46: =IF($B46<>"",3,"") -> 3 | K46: =IF(C46="","",IF(COUNTA(F46:J46)>0,AVERAGE(F46:J46),)) -> 3 | L46: =IF(C46="","",IF(COUNTA(F46:J46)>0,IF(COUNTIF(F46:J46,"0")>0,0,IF(K46>2.75,3,IF(K46>=1.75,2,IF(K46>=1,1,IF(K46<1,0,))))),)) -> 3 | M46: =IF(C46="","",IF(COUNTA(F46:J46)>0,IF(COUNTIF(F46:J46,"0")>0,"ไม่ผ่าน",IF(K46>2.75,"ดีเยี่ยม",IF(K46>=1.75,"ดี",IF(K46>=1,"ผ่าน",IF(K46<1,"ไม่ผ่าน",))))),)) -> ดีเยี่ยม
A47: 21 | B47: 15877 | C47: ม.1/2 | D47: เด็กหญิงสุกัญญา | E47: คิดรอบ | F47: =IF($B47<>"",3,"") -> 3 | G47: =IF($B47<>"",3,"") -> 3 | H47: =IF($B47<>"",3,"") -> 3 | I47: =IF($B47<>"",3,"") -> 3 | J47: =IF($B47<>"",3,"") -> 3 | K47: =IF(C47="","",IF(COUNTA(F47:J47)>0,AVERAGE(F47:J47),)) -> 3 | L47: =IF(C47="","",IF(COUNTA(F47:J47)>0,IF(COUNTIF(F47:J47,"0")>0,0,IF(K47>2.75,3,IF(K47>=1.75,2,IF(K47>=1,1,IF(K47<1,0,))))),)) -> 3 | M47: =IF(C47="","",IF(COUNTA(F47:J47)>0,IF(COUNTIF(F47:J47,"0")>0,"ไม่ผ่าน",IF(K47>2.75,"ดีเยี่ยม",IF(K47>=1.75,"ดี",IF(K47>=1,"ผ่าน",IF(K47<1,"ไม่ผ่าน",))))),)) -> ดีเยี่ยม
A48: 22 | B48: 15878 | C48: ม.1/2 | D48: เด็กหญิงสุภัสสรา | E48: โถทอง | F48: =IF($B48<>"",3,"") -> 3 | G48: =IF($B48<>"",3,"") -> 3 | H48: =IF($B48<>"",3,"") -> 3 | I48: =IF($B48<>"",3,"") -> 3 | J48: =IF($B48<>"",3,"") -> 3 | K48: =IF(C48="","",IF(COUNTA(F48:J48)>0,AVERAGE(F48:J48),)) -> 3 | L48: =IF(C48="","",IF(COUNTA(F48:J48)>0,IF(COUNTIF(F48:J48,"0")>0,0,IF(K48>2.75,3,IF(K48>=1.75,2,IF(K48>=1,1,IF(K48<1,0,))))),)) -> 3 | M48: =IF(C48="","",IF(COUNTA(F48:J48)>0,IF(COUNTIF(F48:J48,"0")>0,"ไม่ผ่าน",IF(K48>2.75,"ดีเยี่ยม",IF(K48>=1.75,"ดี",IF(K48>=1,"ผ่าน",IF(K48<1,"ไม่ผ่าน",))))),)) -> ดีเยี่ยม
A49: 23 | B49: 15879 | C49: ม.1/2 | D49: เด็กหญิงอนัตตา | E49: จงใจกลาง | F49: =IF($B49<>"",3,"") -> 3 | G49: =IF($B49<>"",3,"") -> 3 | H49: =IF($B49<>"",3,"") -> 3 | I49: =IF($B49<>"",3,"") -> 3 | J49: =IF($B49<>"",3,"") -> 3 | K49: =IF(C49="","",IF(COUNTA(F49:J49)>0,AVERAGE(F49:J49),)) -> 3 | L49: =IF(C49="","",IF(COUNTA(F49:J49)>0,IF(COUNTIF(F49:J49,"0")>0,0,IF(K49>2.75,3,IF(K49>=1.75,2,IF(K49>=1,1,IF(K49<1,0,))))),)) -> 3 | M49: =IF(C49="","",IF(COUNTA(F49:J49)>0,IF(COUNTIF(F49:J49,"0")>0,"ไม่ผ่าน",IF(K49>2.75,"ดีเยี่ยม",IF(K49>=1.75,"ดี",IF(K49>=1,"ผ่าน",IF(K49<1,"ไม่ผ่าน",))))),)) -> ดีเยี่ยม
A50: 1 | B50: 15880 | C50: ม.1/3 | D50: เด็กชายกลวัชร | E50: วายุระกุล | F50: =IF($B50<>"",3,"") -> 3 | G50: =IF($B50<>"",3,"") -> 3 | H50: =IF($B50<>"",3,"") -> 3 | I50: =IF($B50<>"",3,"") -> 3 | J50: =IF($B50<>"",3,"") -> 3 | K50: =IF(C50="","",IF(COUNTA(F50:J50)>0,AVERAGE(F50:J50),)) -> 3 | L50: =IF(C50="","",IF(COUNTA(F50:J50)>0,IF(COUNTIF(F50:J50,"0")>0,0,IF(K50>2.75,3,IF(K50>=1.75,2,IF(K50>=1,1,IF(K50<1,0,))))),)) -> 3 | M50: =IF(C50="","",IF(COUNTA(F50:J50)>0,IF(COUNTIF(F50:J50,"0")>0,"ไม่ผ่าน",IF(K50>2.75,"ดีเยี่ยม",IF(K50>=1.75,"ดี",IF(K50>=1,"ผ่าน",IF(K50<1,"ไม่ผ่าน",))))),)) -> ดีเยี่ยม
A51: 2 | B51: 15881 | C51: ม.1/3 | D51: เด็กชายกิตติโชติ | E51: ถาจอหอ | F51: =IF($B51<>"",3,"") -> 3 | G51: =IF($B51<>"",3,"") -> 3 | H51: =IF($B51<>"",3,"") -> 3 | I51: =IF($B51<>"",3,"") -> 3 | J51: =IF($B51<>"",3,"") -> 3 | K51: =IF(C51="","",IF(COUNTA(F51:J51)>0,AVERAGE(F51:J51),)) -> 3 | L51: =IF(C51="","",IF(COUNTA(F51:J51)>0,IF(COUNTIF(F51:J51,"0")>0,0,IF(K51>2.75,3,IF(K51>=1.75,2,IF(K51>=1,1,IF(K51<1,0,))))),)) -> 3 | M51: =IF(C51="","",IF(COUNTA(F51:J51)>0,IF(COUNTIF(F51:J51,"0")>0,"ไม่ผ่าน",IF(K51>2.75,"ดีเยี่ยม",IF(K51>=1.75,"ดี",IF(K51>=1,"ผ่าน",IF(K51<1,"ไม่ผ่าน",))))),)) -> ดีเยี่ยม
... A167: 24 | B167: 15999 | C167: ม.1/6 | D167: เด็กหญิงนิภาพร | E167: สัตยณรงค์กรณ์ | F167: =IF($B167<>"",3,"") -> 3 | G167: =IF($B167<>"",3,"") -> 3 | H167: =IF($B167<>"",3,"") -> 3 | I167: =IF($B167<>"",3,"") -> 3 | J167: =IF($B167<>"",3,"") -> 3 | K167: =IF(C167="","",IF(COUNTA(F167:J167)>0,AVERAGE(F167:J167),)) -> 3 | L167: =IF(C167="","",IF(COUNTA(F167:J167)>0,IF(COUNTIF(F167:J167,"0")>0,0,IF(K167>2.75,3,IF(K167>=1.75,2,IF(K167>=1,1,IF(K167<1,0,))))),)) -> 3 | M167: =IF(C167="","",IF(COUNTA(F167:J167)>0,IF(COUNTIF(F167:J167,"0")>0,"ไม่ผ่าน",IF(K167>2.75,"ดีเยี่ยม",IF(K167>=1.75,"ดี",IF(K167>=1,"ผ่าน",IF(K167<1,"ไม่ผ่าน",))))),)) -> ดีเยี่ยม
A168: 25 | B168: 16001 | C168: ม.1/6 | D168: เด็กหญิงพิรญาณ์ | E168: เขียนงิ้ว | F168: =IF($B168="","",3) -> 3 | G168: =IF($B168="","",3) -> 3 | H168: =IF($B168="","",3) -> 3 | I168: =IF($B168="","",3) -> 3 | J168: =IF($B168="","",3) -> 3 | K168: =IF(C168="","",IF(COUNTA(F168:J168)>0,AVERAGE(F168:J168),)) -> 3 | L168: =IF(C168="","",IF(COUNTA(F168:J168)>0,IF(COUNTIF(F168:J168,"0")>0,0,IF(K168>2.75,3,IF(K168>=1.75,2,IF(K168>=1,1,IF(K168<1,0,))))),)) -> 3 | M168: =IF(C168="","",IF(COUNTA(F168:J168)>0,IF(COUNTIF(F168:J168,"0")>0,"ไม่ผ่าน",IF(K168>2.75,"ดีเยี่ยม",IF(K168>=1.75,"ดี",IF(K168>=1,"ผ่าน",IF(K168<1,"ไม่ผ่าน",))))),)) -> ดีเยี่ยม
A169: 26 | B169: 16002 | C169: ม.1/6 | D169: เด็กหญิงแววดาว | E169: พาเจริญ | F169: =IF($B169="","",3) -> 3 | G169: =IF($B169="","",3) -> 3 | H169: =IF($B169="","",3) -> 3 | I169: =IF($B169="","",3) -> 3 | J169: =IF($B169="","",3) -> 3 | K169: =IF(C169="","",IF(COUNTA(F169:J169)>0,AVERAGE(F169:J169),)) -> 3 | L169: =IF(C169="","",IF(COUNTA(F169:J169)>0,IF(COUNTIF(F169:J169,"0")>0,0,IF(K169>2.75,3,IF(K169>=1.75,2,IF(K169>=1,1,IF(K169<1,0,))))),)) -> 3 | M169: =IF(C169="","",IF(COUNTA(F169:J169)>0,IF(COUNTIF(F169:J169,"0")>0,"ไม่ผ่าน",IF(K169>2.75,"ดีเยี่ยม",IF(K169>=1.75,"ดี",IF(K169>=1,"ผ่าน",IF(K169<1,"ไม่ผ่าน",))))),)) -> ดีเยี่ยม
A170: 27 | B170: 16003 | C170: ม.1/6 | D170: เด็กหญิงสาวิกา | E170: บุญประสิทธิ์ | F170: =IF($B170="","",3) -> 3 | G170: =IF($B170="","",3) -> 3 | H170: =IF($B170="","",3) -> 3 | I170: =IF($B170="","",3) -> 3 | J170: =IF($B170="","",3) -> 3 | K170: =IF(C170="","",IF(COUNTA(F170:J170)>0,AVERAGE(F170:J170),)) -> 3 | L170: =IF(C170="","",IF(COUNTA(F170:J170)>0,IF(COUNTIF(F170:J170,"0")>0,0,IF(K170>2.75,3,IF(K170>=1.75,2,IF(K170>=1,1,IF(K170<1,0,))))),)) -> 3 | M170: =IF(C170="","",IF(COUNTA(F170:J170)>0,IF(COUNTIF(F170:J170,"0")>0,"ไม่ผ่าน",IF(K170>2.75,"ดีเยี่ยม",IF(K170>=1.75,"ดี",IF(K170>=1,"ผ่าน",IF(K170<1,"ไม่ผ่าน",))))),)) -> ดีเยี่ยม
A171: 28 | B171: 16004 | C171: ม.1/6 | D171: เด็กหญิงหทัยชนก | E171: หรั่นกระโทก | F171: =IF($B171="","",3) -> 3 | G171: =IF($B171="","",3) -> 3 | H171: =IF($B171="","",3) -> 3 | I171: =IF($B171="","",3) -> 3 | J171: =IF($B171="","",3) -> 3 | K171: =IF(C171="","",IF(COUNTA(F171:J171)>0,AVERAGE(F171:J171),)) -> 3 | L171: =IF(C171="","",IF(COUNTA(F171:J171)>0,IF(COUNTIF(F171:J171,"0")>0,0,IF(K171>2.75,3,IF(K171>=1.75,2,IF(K171>=1,1,IF(K171<1,0,))))),)) -> 3 | M171: =IF(C171="","",IF(COUNTA(F171:J171)>0,IF(COUNTIF(F171:J171,"0")>0,"ไม่ผ่าน",IF(K171>2.75,"ดีเยี่ยม",IF(K171>=1.75,"ดี",IF(K171>=1,"ผ่าน",IF(K171<1,"ไม่ผ่าน",))))),)) -> ดีเยี่ยม
A172: 29 | B172: 16006 | C172: ม.1/6 | D172: เด็กหญิงเจลลา | E172: จดขุนทด | F172: =IF($B172="","",3) -> 3 | G172: =IF($B172="","",3) -> 3 | H172: =IF($B172="","",3) -> 3 | I172: =IF($B172="","",3) -> 3 | J172: =IF($B172="","",3) -> 3 | K172: =IF(C172="","",IF(COUNTA(F172:J172)>0,AVERAGE(F172:J172),)) -> 3 | L172: =IF(C172="","",IF(COUNTA(F172:J172)>0,IF(COUNTIF(F172:J172,"0")>0,0,IF(K172>2.75,3,IF(K172>=1.75,2,IF(K172>=1,1,IF(K172<1,0,))))),)) -> 3 | M172: =IF(C172="","",IF(COUNTA(F172:J172)>0,IF(COUNTIF(F172:J172,"0")>0,"ไม่ผ่าน",IF(K172>2.75,"ดีเยี่ยม",IF(K172>=1.75,"ดี",IF(K172>=1,"ผ่าน",IF(K172<1,"ไม่ผ่าน",))))),)) -> ดีเยี่ยม
A173: 1 | B173: 16007 | C173: ม.1/7 | D173: เด็กชายกิตติพงษ์ | E173: ประเสริฐสันติสุข | F173: =IF($B173="","",3) -> 3 | G173: =IF($B173="","",3) -> 3 | H173: =IF($B173="","",3) -> 3 | I173: =IF($B173="","",3) -> 3 | J173: =IF($B173="","",3) -> 3 | K173: =IF(C173="","",IF(COUNTA(F173:J173)>0,AVERAGE(F173:J173),)) -> 3 | L173: =IF(C173="","",IF(COUNTA(F173:J173)>0,IF(COUNTIF(F173:J173,"0")>0,0,IF(K173>2.75,3,IF(K173>=1.75,2,IF(K173>=1,1,IF(K173<1,0,))))),)) -> 3 | M173: =IF(C173="","",IF(COUNTA(F173:J173)>0,IF(COUNTIF(F173:J173,"0")>0,"ไม่ผ่าน",IF(K173>2.75,"ดีเยี่ยม",IF(K173>=1.75,"ดี",IF(K173>=1,"ผ่าน",IF(K173<1,"ไม่ผ่าน",))))),)) -> ดีเยี่ยม
A174: 2 | B174: 16008 | C174: ม.1/7 | D174: เด็กชายธนกฤต | E174: ชื่นบัวทอง | F174: =IF($B174="","",3) -> 3 | G174: =IF($B174="","",3) -> 3 | H174: =IF($B174="","",3) -> 3 | I174: =IF($B174="","",3) -> 3 | J174: =IF($B174="","",3) -> 3 | K174: =IF(C174="","",IF(COUNTA(F174:J174)>0,AVERAGE(F174:J174),)) -> 3 | L174: =IF(C174="","",IF(COUNTA(F174:J174)>0,IF(COUNTIF(F174:J174,"0")>0,0,IF(K174>2.75,3,IF(K174>=1.75,2,IF(K174>=1,1,IF(K174<1,0,))))),)) -> 3 | M174: =IF(C174="","",IF(COUNTA(F174:J174)>0,IF(COUNTIF(F174:J174,"0")>0,"ไม่ผ่าน",IF(K174>2.75,"ดีเยี่ยม",IF(K174>=1.75,"ดี",IF(K174>=1,"ผ่าน",IF(K174<1,"ไม่ผ่าน",))))),)) -> ดีเยี่ยม
A175: 3 | B175: 16009 | C175: ม.1/7 | D175: เด็กชายธนกฤต | E175: วันผักแว่น | F175: =IF($B175="","",3) -> 3 | G175: =IF($B175="","",3) -> 3 | H175: =IF($B175="","",3) -> 3 | I175: =IF($B175="","",3) -> 3 | J175: =IF($B175="","",3) -> 3 | K175: =IF(C175="","",IF(COUNTA(F175:J175)>0,AVERAGE(F175:J175),)) -> 3 | L175: =IF(C175="","",IF(COUNTA(F175:J175)>0,IF(COUNTIF(F175:J175,"0")>0,0,IF(K175>2.75,3,IF(K175>=1.75,2,IF(K175>=1,1,IF(K175<1,0,))))),)) -> 3 | M175: =IF(C175="","",IF(COUNTA(F175:J175)>0,IF(COUNTIF(F175:J175,"0")>0,"ไม่ผ่าน",IF(K175>2.75,"ดีเยี่ยม",IF(K175>=1.75,"ดี",IF(K175>=1,"ผ่าน",IF(K175<1,"ไม่ผ่าน",))))),)) -> ดีเยี่ยม
A176: 4 | B176: 16010 | C176: ม.1/7 | D176: เด็กชายบารมี | E176: มณีศรี | F176: =IF($B176="","",3) -> 3 | G176: =IF($B176="","",3) -> 3 | H176: =IF($B176="","",3) -> 3 | I176: =IF($B176="","",3) -> 3 | J176: =IF($B176="","",3) -> 3 | K176: =IF(C176="","",IF(COUNTA(F176:J176)>0,AVERAGE(F176:J176),)) -> 3 | L176: =IF(C176="","",IF(COUNTA(F176:J176)>0,IF(COUNTIF(F176:J176,"0")>0,0,IF(K176>2.75,3,IF(K176>=1.75,2,IF(K176>=1,1,IF(K176<1,0,))))),)) -> 3 | M176: =IF(C176="","",IF(COUNTA(F176:J176)>0,IF(COUNTIF(F176:J176,"0")>0,"ไม่ผ่าน",IF(K176>2.75,"ดีเยี่ยม",IF(K176>=1.75,"ดี",IF(K176>=1,"ผ่าน",IF(K176<1,"ไม่ผ่าน",))))),)) -> ดีเยี่ยม
...

Sheet key
A1: ม. | B1: ระดับชั้น | C1: ภาคเรียนที่ | D1: ปีการศึกษา | E1: หน่วยกิต | F1: กลุ่มสาระการเรียนรู้ | G1: ราชื่อบุคลากร | H1: ประเภท | I1: รายการ | J1: ชื่อชีต | K1: เลขหน้า | L1: การนิเทศ | M1: หัวหน้ากลุ่มสาระ | N1: ผช.ผอ | O1: ผู้บริหาร | Q1: เลขที่ | R1: เลขประจำตัว | U1: นามสกุล | V1: ชั้น | X1: =p01pok!A21&p01pok!B21 -> ม.1/1
A2: --เลือกชั้น-- | B2: --เลือกห้อง-- | C2: 1 | D2: 2562 | E2: -เลือกหน่วยกิต- | F2: ----------เลือกกลุ่มสาระ--------- | G2: ----------เลือกรายชื่อ--------- | H2: ปพ.5 ต | I2: ปกหน้า | J2: p0pok1 | K2: 0 | L2: ดีมาก | M2: ----------เลือกรายชื่อ--------- | N2: ----------เลือกรายชื่อ--------- | Q2: 1 | R2: 15839 | S2: ม.1/1 | T2: เด็กชายกิตติธร | U2: ธิมา | V2: ม.1 | X2: =p01pok!A23&p01pok!B23 -> ม.1/2
A3: 1 | B3: 1 | C3: 2 | D3: 2563 | E3: 0 | F3: ภาษาไทย | G3: นางสาวธาราทิพย์ ทรวงดอน | H3: ปพ.5 ป | I3: คำอธิบายรายวิชา | J3: p1course | K3: 1 | L3: ดี | M3: นางสุชาติ โมสูงเนิน | N3: นางสาวลมัย เบาสูงเนิน | O3: นายภราดร พวงประโคน | Q3: 2 | R3: 15840 | S3: ม.1/1 | T3: เด็กชายฐกฤต | U3: คชรัตน์ | V3: ม.1 | X3: =p01pok!A25&p01pok!B25 -> ม.1/3
A4: 2 | B4: 2 | D4: 2564 | E4: 0.5 | F4: คณิตศาสตร์ | G4: นางสาวหัทยา อ้นสูงเนิน | I4: ตัวชี้วัด/ผลการเรียนรู้ | J4: p2out1 | K4: 2 | L4: พอใช้ | M4: นายจิระวัฒน์ เวฬุนาทร | N4: นางพิมพ์ชณัฐ พลเยี่ยม | O4: นางสาวพรรณิกา ป้องหานาค | Q4: 3 | R4: 15841 | S4: ม.1/1 | T4: เด็กชายณวัฒน์ | U4: เหมวัฒน์ | V4: ม.1 | X4: =p01pok!A27&p01pok!B27 -> ม.1/4
A5: 3 | B5: 3 | D5: 2565 | E5: 1 | F5: วิทยาศาสตร์และเทคโนโลยี | G5: นางสาวพิชญาภา ภาษาสุข | I5: โครงสร้างรายวิชา | J5: p3str1 | K5: 3 | L5: ปรับปรุง | M5: นายศาสตรา ศรีสุเพชรกุล | N5: นายวัชรินทร์ ซอมขุนทด | O5: นายปฏิภาณ ลาสามา | Q5: 4 | R5: 15842 | S5: ม.1/1 | T5: เด็กชายณัฐพล | U5: ศรีอภัย | V5: ม.1 | X5: =p01pok!A29&p01pok!B29 -> ม.1/5
A6: 4 | B6: 4 | D6: 2566 | E6: 1.5 | F6: สังคมศึกษา ศาสนา และวัฒนธรรม | G6: นางสาวสุนิษฐา พาขุนทด | I6: บันทึกเวลาเรียน | J6: p4time | K6: 4 | M6: นางสาวสุกัญญา นาคเสน | N6: นางสาวปนัดดา พงศ์มาลี | Q6: 5 | R6: 15843 | S6: ม.1/1 | T6: เด็กชายพัชรพล | U6: จิตตะไชย | V6: ม.1 | X6: =p01pok!A31&p01pok!B31 -> ม.1/6
A7: 5 | B7: 5 | D7: 2567 | E7: 2 | F7: สุขศึกษาและพลศึกษา | G7: นางสาวสุภัสรา แก้วล้ำ | I7: ผลการเรียน | J7: p5grade | K7: 5 | M7: นายชนะ แสงจันทร์งาม | N7: นายยุทธภัณฑ์ เสิงกำปัง | Q7: 6 | R7: 15844 | S7: ม.1/1 | T7: เด็กชายภูริณัฐ | U7: เจิมขุนทด | V7: ม.1 | X7: =p01pok!A33&p01pok!B33 -> ม.1/7
A8: 6 | B8: 6 | D8: 2568 | F8: ศิลปะ | G8: นางสุชาติ โมสูงเนิน | I8: คุณลักษณะ/อ่านคิดวิเคราะห์เขียน | J8: p6read3 | K8: 6 | M8: นางสาวปานชนก นวลละออง | Q8: 7 | R8: 15845 | S8: ม.1/1 | T8: เด็กชายสิทธินนท์ | U8: ภิลัยวรรณ | V8: ม.1 | X8: =p01pok!A28&p01pok!B28
B9: 7 | D9: 2569 | F9: การงานอาชีพ | G9: นางสาวนัทฑริกา บำเพ็ญพงษ์ | I9: สมรรถนะ | J9: p7atitude | K9: 7 | M9: นางสาวอรปวีณ์ ตั้งแต่ง | Q9: 8 | R9: 15846 | S9: ม.1/1 | T9: เด็กชายสิริมงคล | U9: ปราณีตพลกรัง | V9: ม.1
F10: ภาษาต่างประเทศ | G10: นางสาวพิมพ์ชนก แผลงนอก | I10: การป้องกันการทุจริต | J10: p8honest | K10: 8 | M10: นางสาวณกรกมล ศรีไชย | Q10: 9 | R10: 15847 | S10: ม.1/1 | T10: เด็กหญิงกนกพร | U10: พิไลพงษ์ | V10: ม.1 | X10: =p01pok!A30&p01pok!B30
F11: กิจกรรมพัฒนาผู้เรียน | G11: นางสาวลดาวัลย์ เกษมอมรกุล | I11: การนิเทศน์ | J11: p9vision | K11: 9 | M11: นางนฤมล รัตนานุสรณ์ | Q11: 10 | R11: 15848 | S11: ม.1/1 | T11: เด็กหญิงจิรัชยา | U11: อุปัชฌาย์ | V11: ม.1
G12: นางอุดมพร ชื่นอาภา | Q12: 11 | R12: 15849 | S12: ม.1/1 | T12: เด็กหญิงณัฐณิชา | U12: สบเหมาะ | V12: ม.1
G13: นายธนพล ชินอ่อน | Q13: 12 | R13: 15850 | S13: ม.1/1 | T13: เด็กหญิงธันยารัตน์ | U13: เกงขุนทด | V13: ม.1
G14: นายภูรินทร์ ยิ่งใจกล้า | I14: ชั้นมัธยมศึกษาตอนต้น | Q14: 13 | R14: 15851 | S14: ม.1/1 | T14: เด็กหญิงพรหมพร | U14: ประเสริฐพงศ์ธร | V14: ม.1
G15: นางดวงรัตน์ ลอยฟู | I15: ชั้นมัธยมศึกษาตอนปลาย | Q15: 14 | R15: 15853 | S15: ม.1/1 | T15: เด็กหญิงศิริวรรณ | U15: ชีพันดุง | V15: ม.1
G16: นางสาวปฐมาพร ปั่นสันเทียะ | Q16: 15 | R16: 15854 | S16: ม.1/1 | T16: เด็กหญิงสุชาดา | U16: จงเย็นกลาง | V16: ม.1
G17: นางสาวปัทมาพร จ่าโนนสูง | Q17: 16 | R17: 15855 | S17: ม.1/1 | T17: เด็กหญิงอาภัสรา | U17: นกน้อย | V17: ม.1
G18: นางสาวเพลินใจ วิริยะ | Q18: 17 | R18: 15856 | S18: ม.1/1 | T18: เด็กหญิงเอมิกา | U18: ต่วนสูงเนิน | V18: ม.1
G19: นางสาวลมัย เบาสูงเนิน | Q19: 1 | R19: 15857 | S19: ม.1/2 | T19: เด็กชายณภัทร | U19: โคตร์สิงห์ | V19: ม.1
G20: นางสาววรรณรท หงษ์ประสิทธิ์ | Q20: 2 | R20: 15858 | S20: ม.1/2 | T20: เด็กชายบริบูรณ์ | U20: รัตนารักษ์ | V20: ม.1
G21: นางสาวสโรชา เตียงช่างรัมย์ | Q21: 3 | R21: 15859 | S21: ม.1/2 | T21: เด็กชายพีระพงษ์ | U21: พลเยี่ยม | V21: ม.1
G22: นางอุบลพรรณ์ สิทธิถาวร | Q22: 4 | R22: 15860 | S22: ม.1/2 | T22: เด็กชายวรกฤต | U22: เจิมขุนทด | V22: ม.1
G23: นายวัชรินทร์ ซอมขุนทด | Q23: 5 | R23: 15861 | S23: ม.1/2 | T23: เด็กหญิงกมลวรรณ | U23: เฝื่อนสูงเนิน | V23: ม.1
G24: นายศาสตรา ศรีสุเพชรกุล | Q24: 6 | R24: 15862 | S24: ม.1/2 | T24: เด็กหญิงชนิภรณ์ | U24: มายา | V24: ม.1
G25: นายสิทธิชัย โพชะกะ | Q25: 7 | R25: 15863 | S25: ม.1/2 | T25: เด็กหญิงชรัณรัตน์ | U25: ช่วยงาน | V25: ม.1
G26: นายจิรวัฒน์ คูณศรี | Q26: 8 | R26: 15864 | S26: ม.1/2 | T26: เด็กหญิงณัฏฐณิชา | U26: โนนใหม่ | V26: ม.1
G27: นางนฤมล รัตนานุสรณ์ | Q27: 9 | R27: 15865 | S27: ม.1/2 | T27: เด็กหญิงณัฐณิชา | U27: ทองศรี | V27: ม.1
... G62: นางสาวชาคริยา คงดี | Q62: 21 | R62: 15902 | S62: ม.1/3 | T62: เด็กหญิงชนกนันท์ | U62: นันทะไชยศรี | V62: ม.1
Q63: 22 | R63: 15903 | S63: ม.1/3 | T63: เด็กหญิงดารินทร์ | U63: ศรีสูงเนิน | V63: ม.1
Q64: 23 | R64: 15904 | S64: ม.1/3 | T64: เด็กหญิงทัดดาว | U64: นุโยค | V64: ม.1
Q65: 24 | R65: 15905 | S65: ม.1/3 | T65: เด็กหญิงทิพวรรณ | U65: โทสูงเนิน | V65: ม.1
Q66: 25 | R66: 15906 | S66: ม.1/3 | T66: เด็กหญิงนลินนิภา | U66: ไตรทิพย์ | V66: ม.1
Q67: 26 | R67: 15907 | S67: ม.1/3 | T67: เด็กหญิงเปรมสุดา | U67: สารทอง | V67: ม.1
Q68: 27 | R68: 15908 | S68: ม.1/3 | T68: เด็กหญิงลภัสรดา | U68: ปวงขุนทด | V68: ม.1
Q69: 28 | R69: 15909 | S69: ม.1/3 | T69: เด็กหญิงศิรัญญา | U69: เจิมขุนทด | V69: ม.1
Q70: 29 | R70: 15910 | S70: ม.1/3 | T70: เด็กหญิงศิรินดา | U70: นพพลกรัง | V70: ม.1
Q71: 30 | R71: 15911 | S71: ม.1/3 | T71: เด็กหญิงสุพิชชา | U71: แสงเจริญ | V71: ม.1
Q72: 1 | R72: 15912 | S72: ม.1/4 | T72: เด็กชายกิตติภูมิ | U72: คลังเงิน | V72: ม.1
Q73: 2 | R73: 15913 | S73: ม.1/4 | T73: เด็กชายเกียรติศักดิ์ | U73: จันกลาง | V73: ม.1
Q74: 3 | R74: 15914 | S74: ม.1/4 | T74: เด็กชายจารุกิตติ์ | U74: รัตน์สันเทียะ | V74: ม.1
...

Sheet รายชื่อนักเรียน
A1: ม. 1 | G1: ม. 2 | M1: ม. 3 | S1: ม. 4 | Y1: ม. 5 | AE1: ม. 6
A2: เลขที่ | B2: เลขประจำตัว | C2: ชั้น | D2: ชื่อ | E2: สกุล | G2: เลขที่ | H2: เลขประจำตัว | I2: ชั้น | J2: ชื่อ | K2: สกุล | M2: เลขที่ | N2: เลขประจำตัว | O2: ชั้น | P2: ชื่อ | Q2: สกุล | S2: เลขที่ | T2: เลขประจำตัว | U2: ชั้น | V2: ชื่อ | W2: สกุล | Y2: เลขที่ | Z2: เลขประจำตัว | AA2: ชั้น | AB2: ชื่อ | AC2: สกุล | AE2: เลขที่ | AF2: เลขประจำตัว | AG2: ชั้น | AH2: ชื่อ | AI2: สกุล
A3: 1 | B3: 15839 | C3: ม.1/1 | D3: เด็กชายกิตติธร | E3: ธิมา | G3: 1 | H3: 15513 | I3: ม.2/1 | J3: เด็กชายจิตรภัทร | K3: โคตร์สิงห์ | M3: 1 | N3: 15203 | O3: ม.3/1 | P3: เด็กชายกฤชณภัทร | Q3: ปัญญาสม | S3: 1 | T3: 14876 | U3: ม.4/1 | V3: นายกฤติพันธุ์ | W3: การวิบูลย์ | Y3: 1 | Z3: 14633 | AA3: ม.5/1 | AB3: นายศุทธิกร | AC3: โภชน์ฉิมพลี | AE3: 1 | AF3: 14386 | AG3: ม.6/1 | AH3: นายกฤษฎา | AI3: กำพุฒกลาง
A4: 2 | B4: 15840 | C4: ม.1/1 | D4: เด็กชายฐกฤต | E4: คชรัตน์ | G4: 2 | H4: 15514 | I4: ม.2/1 | J4: เด็กชายณัฐพัชร์ | K4: เจียสำราญ | M4: 2 | N4: 15205 | O4: ม.3/1 | P4: เด็กชายจิรวัฒน์ | Q4: สัมมา | S4: 2 | T4: 14878 | U4: ม.4/1 | V4: นายจันทกร | W4: เอ้สูงเนิน | Y4: 2 | Z4: 14658 | AA4: ม.5/1 | AB4: นายจิรวัฒน์ | AC4: แสพลกรัง | AE4: 2 | AF4: 14387 | AG4: ม.6/1 | AH4: นายกฤษณพัฒน์ | AI4: ปิ่นโคกกรวด
A5: 3 | B5: 15841 | C5: ม.1/1 | D5: เด็กชายณวัฒน์ | E5: เหมวัฒน์ | G5: 3 | H5: 15515 | I5: ม.2/1 | J5: เด็กชายธนกร | K5: แซ่เล้า | M5: 3 | N5: 15206 | O5: ม.3/1 | P5: เด็กชายญาณวรุตม์ | Q5: หมั่นวิชา | S5: 3 | T5: 14881 | U5: ม.4/1 | V5: นายทีฆายุ | W5: สีหาทัพ | Y5: 3 | Z5: 14669 | AA5: ม.5/1 | AB5: นายรชต | AC5: โพธิ์พันธ์ | AE5: 3 | AF5: 14389 | AG5: ม.6/1 | AH5: นายคณพัฒน์ | AI5: ฉิมฉลาด
A6: 4 | B6: 15842 | C6: ม.1/1 | D6: เด็กชายณัฐพล | E6: ศรีอภัย | G6: 4 | H6: 15516 | I6: ม.2/1 | J6: เด็กชายนภัทรพงษ์ | K6: กาญจนโกมล | M6: 4 | N6: 15207 | O6: ม.3/1 | P6: เด็กชายณัฐธัน | Q6: ศรีรอด | S6: 4 | T6: 14882 | U6: ม.4/1 | V6: นายธนวัตน์ | W6: จอดสันเทียะ | Y6: 4 | Z6: 14722 | AA6: ม.5/1 | AB6: นายจักรินทร์ | AC6: ฉิมใหม่ | AE6: 4 | AF6: 14392 | AG6: ม.6/1 | AH6: นายพงษ์ศธร | AI6: หะขุนทด
A7: 5 | B7: 15843 | C7: ม.1/1 | D7: เด็กชายพัชรพล | E7: จิตตะไชย | G7: 5 | H7: 15517 | I7: ม.2/1 | J7: เด็กชายพงศธร | K7: ศรีโคกกรวด | M7: 5 | N7: 15208 | O7: ม.3/1 | P7: เด็กชายธนิยวินทน์ | Q7: เจียรสีดำรงค์กูล | S7: 5 | T7: 14883 | U7: ม.4/1 | V7: นายพงศธร | W7: ทองคำ | Y7: 5 | Z7: 14736 | AA7: ม.5/1 | AB7: นายเอกราช | AC7: จรโคกกรวด | AE7: 5 | AF7: 14398 | AG7: ม.6/1 | AH7: นายศุภวิชญ์ | AI7: พวงสันเทียะ
A8: 6 | B8: 15844 | C8: ม.1/1 | D8: เด็กชายภูริณัฐ | E8: เจิมขุนทด | G8: 6 | H8: 15518 | I8: ม.2/1 | J8: เด็กชายพชรพล | K8: รอดสมบรูณ์ | M8: 6 | N8: 15209 | O8: ม.3/1 | P8: นายปวริศ | Q8: นพขุนทด | S8: 6 | T8: 14884 | U8: ม.4/1 | V8: นายพัชรพงษ์ | W8: วงค์กาวี | Y8: 6 | Z8: 14634 | AA8: ม.5/1 | AB8: นางสาวกชพรรณ | AC8: แนบสันเทียะ | AE8: 6 | AF8: 14422 | AG8: ม.6/1 | AH8: นายชัยชนะ | AI8: ธงสันเทียะ
A9: 7 | B9: 15845 | C9: ม.1/1 | D9: เด็กชายสิทธินนท์ | E9: ภิลัยวรรณ | G9: 7 | H9: 15519 | I9: ม.2/1 | J9: เด็กชายพัชรพงษ์ | K9: อิงสันเทียะ | M9: 7 | N9: 15210 | O9: ม.3/1 | P9: เด็กชายปาณัท | Q9: ปั่นกลาง | S9: 7 | T9: 14885 | U9: ม.4/1 | V9: นายภูริณัฐ | W9: สีมาส่งเสริม | Y9: 7 | Z9: 14645 | AA9: ม.5/1 | AB9: นางสาวพรรณภัค | AC9: บานโพธิ์ | AE9: 7 | AF9: 14429 | AG9: ม.6/1 | AH9: นายปฏิธาน | AI9: มีโนนทอง
A10: 8 | B10: 15846 | C10: ม.1/1 | D10: เด็กชายสิริมงคล | E10: ปราณีตพลกรัง | G10: 8 | H10: 15520 | I10: ม.2/1 | J10: เด็กชายพิพัฒน์ | K10: ทองเกลี้ยง | M10: 8 | N10: 15211 | O10: ม.3/1 | P10: นายปิติภูมิ | Q10: หวินสูงเนิน | S10: 8 | T10: 14886 | U10: ม.4/1 | V10: นายภูรินท์ | W10: ยังสูงเนิน | Y10: 8 | Z10: 14651 | AA10: ม.5/1 | AB10: นางสาววรัญญา | AC10: บริบูรณ์ | AE10: 8 | AF10: 14458 | AG10: ม.6/1 | AH10: นายพิภพ | AI10: มหาวงษ์
A11: 9 | B11: 15847 | C11: ม.1/1 | D11: เด็กหญิงกนกพร | E11: พิไลพงษ์ | G11: 9 | H11: 15521 | I11: ม.2/1 | J11: เด็กชายภคพล | K11: แนมขุนทด | M11: 9 | N11: 15212 | O11: ม.3/1 | P11: เด็กชายพลวัฒน์ | Q11: ศิลปะ | S11: 9 | T11: 14887 | U11: ม.4/1 | V11: นายยิ่งคุณ | W11: ศรีพลัง | Y11: 9 | Z11: 14656 | AA11: ม.5/1 | AB11: นางสาวสุภาวินี | AC11: มีสันเทียะ | AE11: 9 | AF11: 14405 | AG11: ม.6/1 | AH11: นางสาวชนิสรา | AI11: ยอดสันเทียะ
A12: 10 | B12: 15848 | C12: ม.1/1 | D12: เด็กหญิงจิรัชยา | E12: อุปัชฌาย์ | G12: 10 | H12: 15522 | I12: ม.2/1 | J12: เด็กชายภูษิต | K12: เจิมขุนทด | M12: 10 | N12: 15213 | O12: ม.3/1 | P12: นายภัทรดนัย | Q12: ดีอิน | S12: 10 | T12: 14888 | U12: ม.4/1 | V12: นายรัชชานนท์ | W12: แนมขุนทด | Y12: 10 | Z12: 14677 | AA12: ม.5/1 | AB12: นางสาวเกศกนก | AC12: ใจสูงเนิน | AE12: 10 | AF12: 14412 | AG12: ม.6/1 | AH12: นางสาวพัณวษา | AI12: บัณฑุกุล
A13: 11 | B13: 15849 | C13: ม.1/1 | D13: เด็กหญิงณัฐณิชา | E13: สบเหมาะ | G13: 11 | H13: 15523 | I13: ม.2/1 | J13: เด็กชายศุภกิจ | K13: เที่ยงสูงเนิน | M13: 11 | N13: 15214 | O13: ม.3/1 | P13: เด็กชายเมธาสิทธิ์ | Q13: ปานะวงค์ | S13: 11 | T13: 14889 | U13: ม.4/1 | V13: นายวีรภัทร | W13: รอสูงเนิน | Y13: 11 | Z13: 14678 | AA13: ม.5/1 | AB13: นางสาวชุติมณฑน์ | AC13: สนิทบุรุษ | AE13: 11 | AF13: 14418 | AG13: ม.6/1 | AH13: นางสาวสุพัตรา | AI13: อำคาเพท
A14: 12 | B14: 15850 | C14: ม.1/1 | D14: เด็กหญิงธันยารัตน์ | E14: เกงขุนทด | G14: 12 | H14: 15524 | I14: ม.2/1 | J14: เด็กชายสิรภพ | K14: โภชน์ฉิมพลี | M14: 12 | N14: 15215 | O14: ม.3/1 | P14: นายรัฐศักดิ์ | Q14: ศรีสถลมารค | S14: 12 | T14: 14989 | U14: ม.4/1 | V14: นายภัทรดนัย | W14: ขาวมะลัง | Y14: 12 | Z14: 14681 | AA14: ม.5/1 | AB14: นางสาวนัฐลดา | AC14: แนมขุนทด | AE14: 12 | AF14: 14419 | AG14: ม.6/1 | AH14: นางสาวสุรัมภา | AI14: ดวงมาลัย
... A124: 20 | B124: 15963 | C124: ม.1/5 | D124: เด็กชายอาคูกา เลีย มาร์ติน | E124: อานาโย | G124: 17 | H124: 15638 | I124: ม.2/4 | J124: เด็กหญิงกรองแก้ว | K124: ฉิมสูงเนิน | M124: 13 | N124: 15328 | O124: ม.3/4 | P124: เด็กชายวรพงษ์ | Q124: ชัยชนะ | S124: 32 | T124: 15715 | U124: ม.4/4 | V124: นางสาวกาญจนพร | W124: รุ่งสว่าง | Y124: 24 | Z124: 15828 | AA124: ม.5/4 | AB124: นางสาวธันย์ชนก | AC124: พางาม | AE124: 15 | AF124: 15454 | AG124: ม.6/5 | AH124: นางสาวสุธาสินี | AI124: เดสันเทียะ
A125: 21 | B125: 15974 | C125: ม.1/5 | D125: เด็กชายภัทรวัต | E125: ซำสันเทียะ | G125: 18 | H125: 15639 | I125: ม.2/4 | J125: เด็กหญิงกวินธิดา | K125: แซ่เรือง | M125: 14 | N125: 15329 | O125: ม.3/4 | P125: นายศตายุ | Q125: ดูสันเทียะ | S125: 33 | T125: 16030 | U125: ม.4/4 | V125: นางสาวกัญชพร | W125: ฉวีรัมย์ | Y125: 25 | Z125: 16068 | AA125: ม.5/4 | AB125: นางสาวขวัญข้าว | AC125: ลับสันเทียะ
A126: 22 | B126: 15975 | C126: ม.1/5 | D126: เด็กชายภาณุพงศ์ | E126: เชตนุช | G126: 19 | H126: 15640 | I126: ม.2/4 | J126: เด็กหญิงกวินธิดา | K126: รวยสันเทียะ | M126: 15 | N126: 15330 | O126: ม.3/4 | P126: นายเอกไพศาล | Q126: ประณีตพลกรัง | S126: 1 | T126: 14908 | U126: ม.4/5 | V126: นายก้องภพ | W126: แตงสันเทียะ | Y126: 1 | Z126: 14424 | AA126: ม.5/5 | AB126: นายธนภูมิ | AC126: ภูมิโคกรักษ์
A127: 23 | B127: 15964 | C127: ม.1/5 | D127: เด็กหญิงณัฐชยา | E127: ทรัพย์ประเสริฐ | G127: 20 | H127: 15641 | I127: ม.2/4 | J127: เด็กหญิงจุฑาทิพย์ | K127: ไวสูงเนิน | M127: 16 | N127: 15471 | O127: ม.3/4 | P127: เด็กชายปัญญพัฒน์ | Q127: คำภาจันท์ | S127: 2 | T127: 14910 | U127: ม.4/5 | V127: นายชยากร | W127: ปุ่มสันเทียะ | Y127: 2 | Z127: 14671 | AA127: ม.5/5 | AB127: นายวันเฉลิม | AC127: โพธิ์หล้า
A128: 24 | B128: 15965 | C128: ม.1/5 | D128: เด็กหญิงณัฐชิชา | E128: เปรื่องสันเทียะ | G128: 21 | H128: 15643 | I128: ม.2/4 | J128: เด็กหญิงฐานิตา | K128: ทิพย์แสง | M128: 17 | N128: 15770 | O128: ม.3/4 | P128: นายณัฐกานต์ | Q128: นิสังรัมย์ | S128: 3 | T128: 14916 | U128: ม.4/5 | V128: นายธันวา | W128: งามแสง | Y128: 3 | Z128: 14723 | AA128: ม.5/5 | AB128: นายจาตุรค์ | AC128: นอสูงเนิน
A129: 25 | B129: 15966 | C129: ม.1/5 | D129: เด็กหญิงดวงนภา | E129: ธงสันเทียะ | G129: 22 | H129: 15644 | I129: ม.2/4 | J129: เด็กหญิงทนัชชา | K129: นิ่มใหม่ | M129: 18 | N129: 15794 | O129: ม.3/4 | P129: นายรัชชานนท์ | Q129: รัดทะนี | S129: 4 | T129: 14917 | U129: ม.4/5 | V129: นายธีรดนย์ | W129: ชัยนาม | Y129: 4 | Z129: 14763 | AA129: ม.5/5 | AB129: นายสวกฤต | AC129: คุมกลางดอน
A130: 26 | B130: 15967 | C130: ม.1/5 | D130: เด็กหญิงบุณณดา | E130: เปรื่องสันเทียะ | G130: 23 | H130: 15645 | I130: ม.2/4 | J130: เด็กหญิงนภัสสร | K130: พูลทอง | M130: 19 | N130: 15798 | O130: ม.3/4 | P130: เด็กชายพีรพล | Q130: เถื่อนม่วง | S130: 5 | T130: 15018 | U130: ม.4/5 | V130: นายธนพร | W130: เที่ยงตรง | Y130: 5 | Z130: 15446 | AA130: ม.5/5 | AB130: นายอัครพนธ์ | AC130: รินไธสง
A131: 27 | B131: 15968 | C131: ม.1/5 | D131: เด็กหญิงพัชรพร | E131: ต่วนสูงเนิน | G131: 24 | H131: 15646 | I131: ม.2/4 | J131: เด็กหญิงนริศรา | K131: แซ่เฮ้ง | M131: 20 | N131: 15825 | O131: ม.3/4 | P131: เด็กชายต้องชนะ | Q131: จาติเกตุ | S131: 6 | T131: 15025 | U131: ม.4/5 | V131: นายวรวิทย์ | W131: กล้าสูงเนิน | Y131: 6 | Z131: 15724 | AA131: ม.5/5 | AB131: นายสิรวิชญ์ | AC131: พยัคฆพงษ์
A132: 28 | B132: 15969 | C132: ม.1/5 | D132: เด็กหญิงภัทรพร | E132: ภูมิพัฒน์ | G132: 25 | H132: 15647 | I132: ม.2/4 | J132: เด็กหญิงนิชา | K132: งามขุนทด | M132: 21 | N132: 15829 | O132: ม.3/4 | P132: นายณัฐิกร | Q132: ภูต้ายผา | S132: 7 | T132: 15031 | U132: ม.4/5 | V132: นายอภิรักษ์ | W132: น้อยนาค | Y132: 7 | Z132: 15736 | AA132: ม.5/5 | AB132: นายจิรโชติ | AC132: สมบัติมาก
A133: 29 | B133: 15970 | C133: ม.1/5 | D133: เด็กหญิงภัทรวดี | E133: แป้นโคตร | G133: 26 | H133: 15648 | I133: ม.2/4 | J133: เด็กหญิงปภัสรา | K133: กล้าสูงเนิน | M133: 22 | N133: 15331 | O133: ม.3/4 | P133: เด็กหญิงกนกวรรณ | Q133: ไกรดงพลอง | S133: 8 | T133: 15760 | U133: ม.4/5 | V133: นายณัฐชนน | W133: มุมทอง | Y133: 8 | Z133: 15737 | AA133: ม.5/5 | AB133: นายชยธร | AC133: ปราณีตพลกรัง
A134: 30 | B134: 15971 | C134: ม.1/5 | D134: เด็กหญิงมลทิชา | E134: รอสูงเนิน | G134: 27 | H134: 15649 | I134: ม.2/4 | J134: เด็กหญิงภัทรภา | K134: ดอกสันเทียะ | M134: 23 | N134: 15333 | O134: ม.3/4 | P134: เด็กหญิงธนธรณ์ | Q134: ปนสันเทียะ | S134: 9 | T134: 15827 | U134: ม.4/5 | V134: นายธนพล | W134: ความประสงค์ | Y134: 9 | Z134: 15738 | AA134: ม.5/5 | AB134: นายไชยวัฒน์ | AC134: เป็งคำ
A135: 31 | B135: 15972 | C135: ม.1/5 | D135: เด็กหญิงสุพรรณษา | E135: ต้นน้ำอ้อย | G135: 28 | H135: 15650 | I135: ม.2/4 | J135: เด็กหญิงวชิรญา | K135: ซีกพุทรา | M135: 24 | N135: 15334 | O135: ม.3/4 | P135: เด็กหญิงเนตรชนก | Q135: วรไธสง | S135: 10 | T135: 16032 | U135: ม.4/5 | V135: นายกิติศักดิ์ | W135: แนมขุนทด | Y135: 10 | Z135: 15739 | AA135: ม.5/5 | AB135: นายทัตสรวง | AC135: ลาภเชษฐา
A136: 32 | B136: 15973 | C136: ม.1/5 | D136: เด็กหญิงอารยา | E136: สุขสูงเนิน | G136: 29 | H136: 15651 | I136: ม.2/4 | J136: เด็กหญิงวรรณรดา | K136: เขินค้างพลู | M136: 25 | N136: 15335 | O136: ม.3/4 | P136: นางสาวเบญญาพร | Q136: นาคพลกรัง | S136: 11 | T136: 16033 | U136: ม.4/5 | V136: นายเกียรติศักดิ์ | W136: ย่อยไธสง | Y136: 11 | Z136: 15740 | AA136: ม.5/5 | AB136: นายธาดาพงศ์ | AC136: หงษ์รัตนาฤทธิ์
... A152: 16 | B152: 15991 | C152: ม.1/6 | D152: เด็กชายอธิวัฒน์ | E152: วะรังศรี | G152: 9 | H152: 15666 | I152: ม.2/5 | J152: เด็กชายธีรภัทร | K152: อิศรานนท์ | M152: 2 | N152: 15348 | O152: ม.3/5 | P152: เด็กชายกฤษณะ | Q152: วงศ์กา | S152: 1 | T152: 14700 | U152: ม.4/6 | V152: นายพันกร | W152: บุญเจือ | Y152: 27 | Z152: 15786 | AA152: ม.5/5 | AB152: นางสาวสุชานันท์ | AC152: หมั้นป้อม
A153: 17 | B153: 15992 | C153: ม.1/6 | D153: เด็กชายอนุชา | E153: พิมพา | G153: 10 | H153: 15667 | I153: ม.2/5 | J153: เด็กชายนนทนันท์ | K153: ศรีอภัย | M153: 3 | N153: 15349 | O153: ม.3/5 | P153: เด็กชายกิตติพัทธ์ | Q153: เวกสันเทียะ | S153: 2 | T153: 14827 | U153: ม.4/6 | V153: นายปรัชญา | W153: คำภาจันทร์
A154: 18 | B154: 15993 | C154: ม.1/6 | D154: เด็กชายอิทธิฤทธิ์ | E154: โสมวิเศษ | G154: 11 | H154: 15668 | I154: ม.2/5 | J154: เด็กชายนันทพงศ์ | K154: แดนสันเทียะ | M154: 4 | N154: 15350 | O154: ม.3/5 | P154: นายกิตติภู | Q154: ชัยบุรัมย์ | S154: 3 | T154: 14912 | U154: ม.4/6 | V154: นายณัชพล | W154: ชาพันดุง
A155: 19 | B155: 15994 | C155: ม.1/6 | D155: เด็กหญิงกัญญาภัค | E155: สุดโต | G155: 12 | H155: 15669 | I155: ม.2/5 | J155: เด็กชายพชร | K155: ถิ่นพุดซา | M155: 5 | N155: 15351 | O155: ม.3/5 | P155: นายจิรพันธ์ | Q155: ถ่ายสูงเนิน | S155: 4 | T155: 14954 | U155: ม.4/6 | V155: นายวุฒิพงษ์ | W155: ชื่นบัวทอง
A156: 20 | B156: 15995 | C156: ม.1/6 | D156: เด็กหญิงจิณัฐตา | E156: ธงสันเทียะ | G156: 13 | H156: 15670 | I156: ม.2/5 | J156: เด็กชายพีรดนย์ | K156: มิตสันเทียะ | M156: 6 | N156: 15352 | O156: ม.3/5 | P156: นายจิรพัส | Q156: ถ่ายสูงเนิน | S156: 5 | T156: 14981 | U156: ม.4/6 | V156: นายณัฐกิตต์ | W156: อินทร์โคกสูง
A157: 21 | B157: 15996 | C157: ม.1/6 | D157: เด็กหญิงณัชชา | E157: มาลากุลต๊ะ | G157: 14 | H157: 15671 | I157: ม.2/5 | J157: เด็กชายพีระพัฒน์ | K157: รามศิริ | M157: 7 | N157: 15353 | O157: ม.3/5 | P157: เด็กชายชวัลกร | Q157: ดอกสันเทียะ | S157: 6 | T157: 15013 | U157: ม.4/6 | V157: นายกรวินท์ | W157: ประณีตพลกรัง
A158: 22 | B158: 15997 | C158: ม.1/6 | D158: เด็กหญิงธิชานันท์ | E158: งามการ | G158: 15 | H158: 15672 | I158: ม.2/5 | J158: เด็กชายภัทรภณ | K158: เสมอภาค | M158: 8 | N158: 15356 | O158: ม.3/5 | P158: เด็กชายนนท์ถศักดิ์ | Q158: คำพิรานนท์ | S158: 7 | T158: 15019 | U158: ม.4/6 | V158: นายธนวิทย์ | W158: ครองแสนเมือง
A159: 23 | B159: 15998 | C159: ม.1/6 | D159: เด็กหญิงนรินพร | E159: แซ่โง้ว | G159: 16 | H159: 15673 | I159: ม.2/5 | J159: เด็กชายอาทิวราห์ | K159: คาวีโชติ | M159: 9 | N159: 15359 | O159: ม.3/5 | P159: เด็กชายพิพัฒน์ | Q159: ศรีสกุล | S159: 8 | T159: 15048 | U159: ม.4/6 | V159: นายจิรพงศ์ | W159: ศรีสูงเนิน
A160: 24 | B160: 15999 | C160: ม.1/6 | D160: เด็กหญิงนิภาพร | E160: สัตยณรงค์กรณ์ | G160: 17 | H160: 15757 | I160: ม.2/5 | J160: เด็กชายชยุต | K160: หิงสันเทียะ | M160: 10 | N160: 15360 | O160: ม.3/5 | P160: นายภัทรพล | Q160: เด่นสกุล | S160: 9 | T160: 15052 | U160: ม.4/6 | V160: นายณัชพล | W160: คุ้มสูงเนิน
A161: 25 | B161: 16001 | C161: ม.1/6 | D161: เด็กหญิงพิรญาณ์ | E161: เขียนงิ้ว | G161: 18 | H161: 15773 | I161: ม.2/5 | J161: เด็กชายบริพัตร | K161: บุสทิพย์ | M161: 11 | N161: 15362 | O161: ม.3/5 | P161: นายเลย์ | Q161: คามาร่า บรุ๊คส์ | S161: 10 | T161: 15053 | U161: ม.4/6 | V161: นายณัฐพงศ์ | W161: ครึ้มสันเทียะ
A162: 26 | B162: 16002 | C162: ม.1/6 | D162: เด็กหญิงแววดาว | E162: พาเจริญ | G162: 19 | H162: 15804 | I162: ม.2/5 | J162: เด็กชายวสุพล | K162: จัตุพล | M162: 12 | N162: 15364 | O162: ม.3/5 | P162: นายอดิเทพ | Q162: พันธ์พิมาย | S162: 11 | T162: 15054 | U162: ม.4/6 | V162: นายณัฐพัฒน์ | W162: โนมขุนทด
A163: 27 | B163: 16003 | C163: ม.1/6 | D163: เด็กหญิงสาวิกา | E163: บุญประสิทธิ์ | G163: 20 | H163: 15823 | I163: ม.2/5 | J163: เด็กชายเตชินท์ | K163: ดุงสูงเนิน | M163: 13 | N163: 15461 | O163: ม.3/5 | P163: นายตฤณทร | Q163: ตอมพุดซา | S163: 12 | T163: 15060 | U163: ม.4/6 | V163: นายพีรพัฒน์ | W163: ตั้นสูงเนิน
A164: 28 | B164: 16004 | C164: ม.1/6 | D164: เด็กหญิงหทัยชนก | E164: หรั่นกระโทก | G164: 21 | H164: 16059 | I164: ม.2/5 | J164: เด็กชายธฤต | K164: บุตรไชย | M164: 14 | N164: 15779 | O164: ม.3/5 | P164: เด็กชายยศกร | Q164: เจือบัวขาว | S164: 13 | T164: 16041 | U164: ม.4/6 | V164: นายจารุกิตติ์ | W164: หินสันเทียะ
...

Sheet สำรอง ประเมินสมรรถนะ
A2: ผลการประเมินสมรรถนะสำคัญของผู้เรียน
A3: รายการประเมิน | F3: ข้อ.1 ความสามารถในการสื่อสาร | G3: ข้อ.2 ความสามารถในการคิด | H3: ข้อ.3 ความสามารถในการแก้ปัญหา | I3: ข้อ.4 ความสามารถในการใช้ทักษะชีวิต | J3: ข้อ.5 ความสามารถในการใช้เทคโนโลยี | K3: รวม | L3: ระดับกรประเมิน | M3: ผลการประเมิน
A9: เลขที่ | B9: รหัสนักเรียน | C9: ชั้น | D9: ชื่อ-นามสกุล | F9: ระดับคะแนนได้แก่
F10: 0=ไม่ผ่าน 1=ผ่าน 2=ดี 3=ดีเยี่ยม
F11: 3 | G11: 3 | H11: 3 | I11: 3 | J11: 3 | K11: =IF(COUNTA(F11:J11)>0,AVERAGE(F11:J11),) -> 3 | L11: =IF(COUNTA(F11:J11)>0,IF(COUNTIF(F11:J11,"0")>0,0,IF(K11>2.75,3,IF(K11>=1.75,2,IF(K11>=1,1,IF(K11<1,0,))))),) -> 3 | M11: =IF(COUNTA(F11:J11)>0,IF(COUNTIF(F11:J11,"0")>0,"ไม่ผ่าน",IF(K11>2.75,"ดีเยี่ยม",IF(K11>=1.75,"ดี",IF(K11>=1,"ผ่าน",IF(K11<1,"ไม่ผ่าน",))))),) -> ดีเยี่ยม
F12: 3 | G12: 3 | H12: 3 | I12: 3 | J12: 3 | K12: =IF(COUNTA(F12:J12)>0,AVERAGE(F12:J12),) -> 3 | L12: =IF(COUNTA(F12:J12)>0,IF(COUNTIF(F12:J12,"0")>0,0,IF(K12>2.75,3,IF(K12>=1.75,2,IF(K12>=1,1,IF(K12<1,0,))))),) -> 3 | M12: =IF(COUNTA(F12:J12)>0,IF(COUNTIF(F12:J12,"0")>0,"ไม่ผ่าน",IF(K12>2.75,"ดีเยี่ยม",IF(K12>=1.75,"ดี",IF(K12>=1,"ผ่าน",IF(K12<1,"ไม่ผ่าน",))))),) -> ดีเยี่ยม
